BEGIN:VCALENDAR
VERSION:2.0
PRODID:-//ChamberMaster//Event Calendar 2.0//EN
METHOD:PUBLISH
X-PUBLISHED-TTL:P3D
REFRESH-INTERVAL:P3D
CALSCALE:GREGORIAN
BEGIN:VEVENT
DTSTART:20190308T130000Z
DTEND:20190308T140000Z
X-MICROSOFT-CDO-ALLDAYEVENT:FALSE
SUMMARY:Third House
DESCRIPTION:
X-ALT-DESC;FMTTYPE=text/html:
LOCATION:Goshen Chamber of Commerce 232 S. Main Street Goshen\, IN 46526
UID:e.689.18579
SEQUENCE:3
DTSTAMP:20260423T180815Z
URL:https://business.goshen.org/events/details/third-house-18579
END:VEVENT

END:VCALENDAR
