BEGIN:VCALENDAR
VERSION:2.0
PRODID:-//ChamberMaster//Event Calendar 2.0//EN
METHOD:PUBLISH
X-PUBLISHED-TTL:P3D
REFRESH-INTERVAL:P3D
CALSCALE:GREGORIAN
BEGIN:VEVENT
DTSTART:20180825T220000Z
DTEND:20180826T040000Z
X-MICROSOFT-CDO-ALLDAYEVENT:FALSE
SUMMARY:Third Annual Business Legacy Hall of Fame Induction Gala
DESCRIPTION:Join us in honoring the third Business Legacy Hall of Fame induction class of Elkhart County's leaders and visionaries in business\, with all proceeds benefiting Junior Achievement & Lemonade Day serving Elkhart County!We will be celebrating tomorrow's future entrepreneurs\, today's current leaders\, and honoring Elkhart County's past with a meal\, awards ceremony\, special guest speaker\, and a silent auction!
X-ALT-DESC;FMTTYPE=text/html:Join us in honoring the third Business Legacy Hall of Fame induction class of Elkhart County&#39\;s leaders and visionaries in business\, with all proceeds benefiting Junior Achievement &amp\; Lemonade Day serving Elkhart County!We will be celebrating tomorrow&#39\;s future entrepreneurs\, today&#39\;s current leaders\, and honoring Elkhart County&#39\;s past with a meal\, awards ceremony\, special guest speaker\, and a silent auction!
LOCATION:Lerner Theatre\, Elkhart\, IN
UID:e.689.17009
SEQUENCE:3
DTSTAMP:20260424T072121Z
URL:https://business.goshen.org/events/details/third-annual-business-legacy-hall-of-fame-induction-gala-17009
END:VEVENT

END:VCALENDAR
