BEGIN:VCALENDAR
VERSION:2.0
PRODID:-//ChamberMaster//Event Calendar 2.0//EN
METHOD:PUBLISH
X-PUBLISHED-TTL:P3D
REFRESH-INTERVAL:P3D
CALSCALE:GREGORIAN
BEGIN:VEVENT
DTSTART:20200108T183000Z
DTEND:20200108T193000Z
X-MICROSOFT-CDO-ALLDAYEVENT:FALSE
SUMMARY:The Unity Candle vs The Last Will and Testament
DESCRIPTION:Decades ago\, my wife and I embedded a ritual called the Unity Candle into our wedding ceremony. Years later\, we discovered that the implications of this "two shall become one" vignette ran headlong into an opposing concept commonly found in a Last Will and Testament. This presentation examines how we harmonized these two opposing concepts while creating a second issue that lingers\, perhaps to this day. Presenter: Jim Smith
X-ALT-DESC;FMTTYPE=text/html:Decades ago\, my wife and I embedded a ritual called the Unity Candle into our wedding ceremony. Years later\, we discovered that the implications of this &ldquo\;two shall become one&rdquo\; vignette ran headlong into an opposing concept commonly found in a Last Will and Testament. This presentation examines how we harmonized these two opposing concepts while creating a second issue that lingers\, perhaps to this day. Presenter: Jim Smith
LOCATION:Greencroft Goshen Community Center
UID:e.689.20609
SEQUENCE:3
DTSTAMP:20260423T002112Z
URL:https://business.goshen.org/events/details/the-unity-candle-vs-the-last-will-and-testament-20609
END:VEVENT

END:VCALENDAR
