BEGIN:VCALENDAR
VERSION:2.0
PRODID:-//ChamberMaster//Event Calendar 2.0//EN
METHOD:PUBLISH
X-PUBLISHED-TTL:P3D
REFRESH-INTERVAL:P3D
CALSCALE:GREGORIAN
BEGIN:VEVENT
DTSTART:20161112T180000Z
DTEND:20161112T190000Z
X-MICROSOFT-CDO-ALLDAYEVENT:FALSE
SUMMARY:The Union's Youngest: Avery Brown and His Drum
DESCRIPTION:Avery Brown is believed to be the youngest person to enlist in the Union Army during the Civil War. At only 8 years old he enlisted in the Union Army. This program will chronicle his 18 month journey during the war\, and will also unveil a new display showcasing one of Brown's drums.
X-ALT-DESC;FMTTYPE=text/html:Avery Brown is believed to be the youngest person to enlist in the Union Army during the Civil War. At only 8 years old he enlisted in the Union Army. This program will chronicle his 18 month journey during the war\, and will also unveil a new display showcasing one of Brown&rsquo\;s drums.
LOCATION:Elkhart County Historical Museum- 304 W. Vistula St.\, Bristol\, IN 46507
UID:e.689.16205
SEQUENCE:3
DTSTAMP:20260425T190432Z
URL:https://business.goshen.org/events/details/the-union-s-youngest-avery-brown-and-his-drum-16205
END:VEVENT

END:VCALENDAR
