BEGIN:VCALENDAR
VERSION:2.0
PRODID:-//ChamberMaster//Event Calendar 2.0//EN
METHOD:PUBLISH
X-PUBLISHED-TTL:P3D
REFRESH-INTERVAL:P3D
CALSCALE:GREGORIAN
BEGIN:VEVENT
DTSTART:20200315T200000Z
DTEND:20200315T220000Z
X-MICROSOFT-CDO-ALLDAYEVENT:FALSE
SUMMARY:The Three Bs!!! Bach\, Brahns and Beethoven
DESCRIPTION:Three pillars of classical music will be featured in this symphonic showcase! Elkhart native Nicholas Roth returns to Elkhart to perform Brahms' "Piano Concerto No. 2." Beethoven's "Symphony No. 2" and Bach's "Sheep May Safely Graze" will also be performed during the concert.
X-ALT-DESC;FMTTYPE=text/html:Three pillars of classical music will be featured in this symphonic showcase! Elkhart native Nicholas Roth returns to Elkhart to perform Brahms&rsquo\; &ldquo\;Piano Concerto No. 2.&rdquo\; Beethoven&rsquo\;s &ldquo\;Symphony No. 2&rdquo\; and Bach&rsquo\;s &ldquo\;Sheep May Safely Graze&rdquo\; will also be performed during the concert.
LOCATION:The Lerner Theatre
UID:e.689.20392
SEQUENCE:3
DTSTAMP:20260422T204927Z
URL:https://business.goshen.org/events/details/the-three-bs-bach-brahns-and-beethoven-20392
END:VEVENT

END:VCALENDAR
