BEGIN:VCALENDAR
VERSION:2.0
PRODID:-//ChamberMaster//Event Calendar 2.0//EN
METHOD:PUBLISH
X-PUBLISHED-TTL:P3D
REFRESH-INTERVAL:P3D
CALSCALE:GREGORIAN
BEGIN:VEVENT
DTSTART:20171110T150000Z
DTEND:20171110T160000Z
X-MICROSOFT-CDO-ALLDAYEVENT:FALSE
SUMMARY:The Salvation Army Red Kettle Kickoff
DESCRIPTION:It's time for Red Kettles and Bell Ringing. The Salvation Army Advisory Board welcomes the 2017 Red Kettle Drive Sponsors.
X-ALT-DESC;FMTTYPE=text/html:It&#39\;s time for Red Kettles and Bell Ringing. The Salvation Army Advisory Board welcomes the 2017 Red Kettle Drive Sponsors.
LOCATION:Concord Mall 3701 S. Main Street Elkhart\, IN 46517 574-875-6502
UID:e.689.17436
SEQUENCE:3
DTSTAMP:20260424T231314Z
URL:https://business.goshen.org/events/details/the-salvation-army-red-kettle-kickoff-17436
END:VEVENT

END:VCALENDAR
