BEGIN:VCALENDAR
VERSION:2.0
PRODID:-//ChamberMaster//Event Calendar 2.0//EN
METHOD:PUBLISH
X-PUBLISHED-TTL:P3D
REFRESH-INTERVAL:P3D
CALSCALE:GREGORIAN
BEGIN:VEVENT
DTSTART:20200219T183000Z
DTEND:20200219T193000Z
X-MICROSOFT-CDO-ALLDAYEVENT:FALSE
SUMMARY:The Mennonite and the Saint
DESCRIPTION:Over the seven years (1990-1997) Marilyn and I were in Calcutta\, I met Mother Teresa more than twenty-five times. The common work of the Missionaries of Charity and Mennonite Central Committee in helping the poor of Calcutta brought us together. In addition\, I frequently escorted visitors to meet Mother. Each year\, we attended a birthday Mass in her honor at one of the Catholic churches. I will show pictures and tell stories of Mother Teresa as I came to know her. Mother Teresa became Saint Teresa of Calcutta in September 2016. Presenter: Glen E. Miller
X-ALT-DESC;FMTTYPE=text/html:Over the seven years (1990-1997) Marilyn and I were in Calcutta\, I met Mother Teresa more than twenty-five times. The common work of the Missionaries of Charity and Mennonite Central Committee in helping the poor of Calcutta brought us together. In addition\, I frequently escorted visitors to meet Mother. Each year\, we attended a birthday Mass in her honor at one of the Catholic churches. I will show pictures and tell stories of Mother Teresa as I came to know her. Mother Teresa became Saint Teresa of Calcutta in September 2016. Presenter: Glen E. Miller
LOCATION:Greencroft Goshen Community Center
UID:e.689.20615
SEQUENCE:3
DTSTAMP:20260422T224010Z
URL:https://business.goshen.org/events/details/the-mennonite-and-the-saint-20615
END:VEVENT

END:VCALENDAR
