BEGIN:VCALENDAR
VERSION:2.0
PRODID:-//ChamberMaster//Event Calendar 2.0//EN
METHOD:PUBLISH
X-PUBLISHED-TTL:P3D
REFRESH-INTERVAL:P3D
CALSCALE:GREGORIAN
BEGIN:VEVENT
DTSTART:20190414T210000Z
DTEND:20190414T223000Z
X-MICROSOFT-CDO-ALLDAYEVENT:FALSE
SUMMARY:The Lord's Supper Tasting
DESCRIPTION:On Sunday\, April 14 at 5 p.m. Faith UMC will host a presentation and tasting by Hope for Israel. This time of remembrance shows how the Messiah gave us the Lord's Supper as He celebrated Passover with his disciples. Hope for Israel is a ministry from Israel\, we are hoping to bring a little bit of the Holy Land to all who participate. In order for us to have enough food for tasting\, please order your FREE ticket.
X-ALT-DESC;FMTTYPE=text/html:On Sunday\, April 14 at 5 p.m. Faith UMC will host a presentation and tasting by Hope for Israel. This time of remembrance shows how the Messiah gave us the Lord&#39\;s Supper as He celebrated Passover with his disciples. Hope for Israel is a ministry from Israel\, we are hoping to bring a little bit of the Holy Land to all who participate. In order for us to have enough food for tasting\, please order your FREE ticket.
LOCATION:Faith United Methodist Church 22045 CR 18 (at CR 17) Goshen IN 46528
UID:e.689.19206
SEQUENCE:3
DTSTAMP:20260423T163657Z
URL:https://business.goshen.org/events/details/the-lord-s-supper-tasting-19206
END:VEVENT

END:VCALENDAR
