BEGIN:VCALENDAR
VERSION:2.0
PRODID:-//ChamberMaster//Event Calendar 2.0//EN
METHOD:PUBLISH
X-PUBLISHED-TTL:P3D
REFRESH-INTERVAL:P3D
CALSCALE:GREGORIAN
BEGIN:VEVENT
DTSTART:20190424T170000Z
DTEND:20190424T203000Z
X-MICROSOFT-CDO-ALLDAYEVENT:FALSE
SUMMARY:The Joy of Doing Family History at the Allen County Public Library Genealogy Center
DESCRIPTION:Everyone has a story\; discover yours by learning how to use the tremendous resources of the Genealogy Center in Fort Wayne. Receive personalized assistance in finding and using resources and evaluating best paths for continued research. The price includes the bus fare and two meals\, one while at the library and one on the way home at St. James Villa Restaurant. Students of the "Family History for Beginners" will have first option. Curt Witcher is in his 39th year of leadership at the Allen County Public Library. He is Senior Manager for Special Collections\, managing the widely acclaimed Genealogy Center. Taught by Curt B. Witcher Register Online: www.life-learn.org Mail or Stop in: Goshen College Box Office\, 1700 South Main Street\, Goshen\, IN 46526 (Located in the Music Center lobby\, open M-F\, 9:00 a.m.-1:00 p.m.) Phone: 574-535-7566
X-ALT-DESC;FMTTYPE=text/html:Everyone has a story\; discover yours by learning how to use the tremendous resources of the Genealogy Center in Fort Wayne. Receive personalized assistance in finding and using resources and evaluating best paths for continued research. The price includes the bus fare and two meals\, one while at the library and one on the way home at St. James Villa Restaurant. Students of the &ldquo\;Family History for Beginners&rdquo\; will have first option. Curt Witcher is in his 39th year of leadership at the Allen County Public Library. He is Senior Manager for Special Collections\, managing the widely acclaimed Genealogy Center. Taught by Curt B. Witcher Register Online: www.life-learn.org Mail or Stop in: Goshen College Box Office\, 1700 South Main Street\, Goshen\, IN 46526 (Located in the Music Center lobby\, open M-F\, 9:00 a.m.-1:00 p.m.) Phone: 574-535-7566
LOCATION:Greencroft Goshen Community Center Jennings Auditorium
UID:e.689.18596
SEQUENCE:3
DTSTAMP:20260423T164213Z
URL:https://business.goshen.org/events/details/the-joy-of-doing-family-history-at-the-allen-county-public-library-genealogy-center-18596
END:VEVENT

END:VCALENDAR
