BEGIN:VCALENDAR
VERSION:2.0
PRODID:-//ChamberMaster//Event Calendar 2.0//EN
METHOD:PUBLISH
X-PUBLISHED-TTL:P3D
REFRESH-INTERVAL:P3D
CALSCALE:GREGORIAN
BEGIN:VEVENT
DTSTART:20190824T130000Z
DTEND:20190824T160000Z
X-MICROSOFT-CDO-ALLDAYEVENT:FALSE
SUMMARY:The Great Inflatable Race - Goshen
DESCRIPTION:REE EVENT! Grab your family and friends! Bounce\, bump and slide your way through this fun-filled 5K inflatable obstacle course! This FREE family-friendly event is perfect for everyone. Registration required. SIGN UP TODAY! Saturday\, August 24\, 9 a.m. Hosted by Goshen Physicians Orthopedics & Sports Medicine
X-ALT-DESC;FMTTYPE=text/html:REE EVENT! Grab your family and friends! Bounce\, bump and slide your way through this fun-filled 5K inflatable obstacle course! This FREE family-friendly event is perfect for everyone. Registration required. SIGN UP TODAY! Saturday\, August 24\, 9 a.m. Hosted by Goshen Physicians Orthopedics &amp\; Sports Medicine
LOCATION:Elkhart County 4-H Fairgrounds 17746 County Rd 34\, Goshen\, IN 46528
UID:e.689.19259
SEQUENCE:3
DTSTAMP:20260423T091151Z
URL:https://business.goshen.org/events/details/the-great-inflatable-race-goshen-19259
END:VEVENT

END:VCALENDAR
