BEGIN:VCALENDAR
VERSION:2.0
PRODID:-//ChamberMaster//Event Calendar 2.0//EN
METHOD:PUBLISH
X-PUBLISHED-TTL:P3D
REFRESH-INTERVAL:P3D
CALSCALE:GREGORIAN
BEGIN:VEVENT
DTSTART:20160521T200000Z
DTEND:20160521T230000Z
X-MICROSOFT-CDO-ALLDAYEVENT:FALSE
SUMMARY:The 3rd Annual Bottlecaps & Corks
DESCRIPTION:The 3rd Annual\n\nBottlecaps & Corks    \n\nAmateur Beer & Wine Competition\n\n\n\nPublic tasting General Admission tickets are $35 in advance and include beer & wine samples\, music\, a commemorative tasting glass\, and more.\n\nVIP and Designated Driver tickets also available\n\n\n\nJudging Competition\n\nWe are loooking for home brewers and vintners to showcase their best beers and wines!  If you make a killer Cabernet or the perfect Pale Ale\, visit our website for requirements and guidelines.\n\n \n\nMust be 21 to enter\n\nPlease bring valid ID\n\n\n\nEvent proceeds benefit Big Brothers Big Sisters of Elkhart County
X-ALT-DESC;FMTTYPE=text/html:<div style="text-align: center\;">The 3rd Annual<br />\nBottlecaps &amp\; Corks&nbsp\;&nbsp\;&nbsp\;&nbsp\;<br />\nAmateur Beer &amp\; Wine Competition<br />\n<br />\nPublic tasting General Admission tickets are $35 in advance and include beer &amp\; wine samples\, music\, a commemorative tasting glass\, and more.<br />\nVIP and Designated Driver tickets also available<br />\n<br />\nJudging Competition<br />\nWe are loooking for home brewers and vintners to showcase their best beers and wines!&nbsp\; If you make a killer Cabernet or the perfect Pale Ale\, visit our website for requirements and guidelines.<br />\n&nbsp\;</div>\n\n<div>Must be 21 to enter<br />\nPlease bring valid ID<br />\n<br />\nEvent proceeds benefit Big Brothers Big Sisters of Elkhart County</div>\n\n<div style="text-align: center\;"><br />\n&nbsp\;</div>\n
LOCATION:Wellfield Botanic Gardens Elkhart IN
UID:e.689.15954
SEQUENCE:3
DTSTAMP:20260426T035554Z
URL:https://business.goshen.org/events/details/the-3rd-annual-bottlecaps-corks-05-21-2016-15954
END:VEVENT

END:VCALENDAR
