BEGIN:VCALENDAR
VERSION:2.0
PRODID:-//ChamberMaster//Event Calendar 2.0//EN
METHOD:PUBLISH
X-PUBLISHED-TTL:P3D
REFRESH-INTERVAL:P3D
CALSCALE:GREGORIAN
BEGIN:VEVENT
DTSTART:20170821T220000Z
DTEND:20170821T233000Z
X-MICROSOFT-CDO-ALLDAYEVENT:FALSE
SUMMARY:TECHNOLOGY\, WHAT’S NEW
DESCRIPTION:Discover the amazing new technology of today and learn how to utilize it to better manage your diabetes.
X-ALT-DESC;FMTTYPE=text/html:Discover the amazing new technology of today and learn how to utilize it to better manage your diabetes.
LOCATION:Goshen Heart & Vascular Center\, Wellness Center\, Second floor 1855 South Main St. Goshen\, IN 46526
UID:e.689.16690
SEQUENCE:3
DTSTAMP:20260425T035640Z
URL:https://business.goshen.org/events/details/technology-what-s-new-16690
END:VEVENT

END:VCALENDAR
