BEGIN:VCALENDAR
VERSION:2.0
PRODID:-//ChamberMaster//Event Calendar 2.0//EN
METHOD:PUBLISH
X-PUBLISHED-TTL:P3D
REFRESH-INTERVAL:P3D
CALSCALE:GREGORIAN
BEGIN:VEVENT
DTSTART:20180327T200000Z
DTEND:20180328T000000Z
X-MICROSOFT-CDO-ALLDAYEVENT:FALSE
SUMMARY:Teacher Recruitment Event - Goshen Community Schools
DESCRIPTION:TUESDAY MARCH 27TH TEACHER RECRUITMENT EVENT Preservice teachers and experienced teachers are welcome to attend! Join us for part or all of the evening. Learn more about opportunities within GCS and interview with Goshen Community Schools administrators for available positions in 2018-19. Contact Sarah Deegan at sdeegan@goshenschools.org or at 574-533-8631 to indicate your interest in attending and to receive additional details. \n\n\n\nApplications for Goshen Community Schools will only be accepted online.      Please visit our website at www.goshenschools.org\, click on JOBS\, and follow the directions.
X-ALT-DESC;FMTTYPE=text/html:TUESDAY MARCH 27TH TEACHER RECRUITMENT EVENT Preservice teachers and experienced teachers are welcome to attend! Join us for part or all of the evening. Learn more about opportunities within GCS and interview with Goshen Community Schools administrators for available positions in 2018-19. Contact Sarah Deegan at sdeegan@goshenschools.org or at 574-533-8631 to indicate your interest in attending and to receive additional details.&nbsp\;<br />\n<br />\nApplications for Goshen Community Schools will only be accepted online. &#9472\;&#9472\;&#9472\;&#9472\; Please visit our website at www.goshenschools.org\, click on JOBS\, and follow the directions.
LOCATION:GOSHEN HIGH SCHOOL 401 Lincolnway East Goshen\, IN 46526 4:00 p.m. to 8:00 p.m.
UID:e.689.17746
SEQUENCE:3
DTSTAMP:20260424T184757Z
URL:https://business.goshen.org/events/details/teacher-recruitment-event-goshen-community-schools-17746
END:VEVENT

END:VCALENDAR
