BEGIN:VCALENDAR
VERSION:2.0
PRODID:-//ChamberMaster//Event Calendar 2.0//EN
METHOD:PUBLISH
X-PUBLISHED-TTL:P3D
REFRESH-INTERVAL:P3D
CALSCALE:GREGORIAN
BEGIN:VEVENT
DTSTART:20180118T123000Z
DTEND:20180118T150000Z
X-MICROSOFT-CDO-ALLDAYEVENT:FALSE
SUMMARY:Tax Reform: What does it mean for my middle market Indiana business (and me)?
DESCRIPTION:As tax reform moved at lightning speed\, there are dozens of questions that need to be answered for even the most savvy financial and business executive. What do these provisions mean to my company and its owners? Are there decisions that we made in the past that should be revisited? What is the current impact on my business and on its foreign operations and how will these changes affect our long-term plans? What do I need to know about my personal income and estate taxes? \n\n \n\nJoin RSM for an informative\, interactive discussion about not only the changes that will accompany tax reform\, but also the current and longer-term strategic impact to middle-market businesses and their stakeholders. \n\n \n\nRSVP for the tax reform event\n\n \n\nYou won't want to miss an urgent tax reform discussion on Jan.18\, 2018\, when RSM tax professionals will help you better understand what the major components of tax reform could mean for your business and your personal finances. We will review some of the key provisions and changes and discuss what you need to do now and further down the road.\n\n \n\nDate: Thursday\, Jan. 18\, 2018\n\nLocation: Lerner Crystal Ballroom\, 410 S. Main St.\, Elkhart\, IN 46516\n\n \n\nAgenda:\n\n7:30 8:00 a.m.  Registration\, breakfast and networking\n\n8 10 a.m.         Tax Cuts and Jobs Act discussion\n\n	Implications on tax planning for corporations and international tax provision changes\n	Considerations for pass-through entities\, trusts as well as estate\, gift and individual income taxes \n\n \n\nRSVP now to reserve your seat!\n\n \n\nPlease let me know if you have any questions!\n\n \n\nWe are offering CPE for this event (up to 2 credits)\n\n \n\nBy the end of the event\, you will be able to:\n\n\n	Evaluate key drivers of entity taxation decisions\n	Assess the financial impact of tax reform on your business\n	Analyze tax legislation and formulate more informed business decisions in order to nurture growth.\n	Identify actions steps to take personally as a result of tax reform \n\n \n\nFor more information regarding refund\, complaint and program cancellation policies\, please contact Rachele Benn.\n\n \n\nRSM US LLP is registered with the National Association of State Boards of Accountancy (NASBA) as a sponsor of continuing professional education on the National Registry of CPE Sponsors. State boards of accountancy have final authority on the acceptance of individual courses for CPE credit. Complaints regarding registered sponsors may be addressed to the National Registry of CPE Sponsors Website: www.nasbaregistry.org.
X-ALT-DESC;FMTTYPE=text/html:<span style="font-family:arial\,sans-serif\;"><span style="font-size:10.0pt\;">As tax reform moved at lightning speed\, there are dozens of questions that need to be answered for even the most savvy financial and business executive. What do these provisions mean to my company and its owners?&nbsp\;Are there decisions that we made in the past that should be revisited?&nbsp\;What is the current impact on my business and on its foreign operations and how will these changes affect our long-term plans? What do I need to know about my personal income and estate taxes? </span></span><br />\n&nbsp\;<br />\n<span style="font-family:arial\,sans-serif\;"><span style="font-size:10.0pt\;">Join RSM for an informative\, interactive discussion about not only the changes that will accompany tax reform\, but also the current and longer-term strategic impact to middle-market businesses and their stakeholders.&nbsp\;</span></span><br />\n&nbsp\;<br />\n<u><span style="color:#0563C1\;"><span style="font-family:arial\,sans-serif\;"><span style="font-size:10.0pt\;"><a href="http://response.rsmus.com/TaxReformUpdateIndiana?src=oftGC">RSVP for the tax reform event</a></span></span></span></u><br />\n&nbsp\;<br />\n<span style="font-family:arial\,sans-serif\;"><span style="font-size:10.0pt\;">You won&rsquo\;t want to miss an urgent tax reform discussion on Jan.18\, 2018\, when RSM tax professionals will help you better understand what the major components of tax reform could mean for your business and your personal finances. We will review some of the key provisions and changes and discuss what you need to do now&mdash\;and further down the road.</span></span><br />\n&nbsp\;<br />\n<strong><span style="font-family:arial\,sans-serif\;"><span style="font-size:10.0pt\;">Date:</span></span></strong><span style="font-family:arial\,sans-serif\;"><span style="font-size:10.0pt\;"> Thursday\, Jan. 18\, 2018</span></span><br />\n<strong><span style="font-family:arial\,sans-serif\;"><span style="font-size:10.0pt\;">Location: </span></span></strong><span style="font-family:arial\,sans-serif\;"><span style="font-size:10.0pt\;">Lerner Crystal Ballroom\, 410 S. Main St.\, Elkhart\, IN 46516</span></span><br />\n&nbsp\;<br />\n<strong><span style="font-family:arial\,sans-serif\;"><span style="font-size:10.0pt\;">Agenda:</span></span></strong><br />\n<span style="font-family:arial\,sans-serif\;"><span style="font-size:10.0pt\;">7:30&ndash\;8:00 a.m.&nbsp\; Registration\, breakfast and networking</span></span><br />\n<span style="font-family:arial\,sans-serif\;"><span style="font-size:10.0pt\;">8&ndash\;10 a.m. &nbsp\;&nbsp\;&nbsp\;&nbsp\;&nbsp\;&nbsp\;&nbsp\; Tax Cuts and Jobs Act discussion</span></span>\n<ul>\n	<li style="margin-left:.75in\;text-autospace:none\;"><span style="font-family:arial\,sans-serif\;"><span style="font-size:10.0pt\;">Implications on tax planning for corporations and international tax provision changes</span></span></li>\n	<li style="margin-left:.75in\;text-autospace:none\;"><span style="font-family:arial\,sans-serif\;"><span style="font-size:10.0pt\;">Considerations for pass-through entities\, trusts as well as estate\, gift and individual income taxes </span></span></li>\n</ul>\n&nbsp\;<br />\n<u><span style="color:#2E75B6\;"><span style="font-family:arial\,sans-serif\;"><span style="font-size:10.0pt\;"><a href="http://response.rsmus.com/TaxReformUpdateIndiana?src=oftGC">RSVP now to reserve your seat!</a></span></span></span></u><br />\n&nbsp\;<br />\n<span style="font-family:arial\,sans-serif\;"><span style="font-size:10.0pt\;">Please let me know if you have any questions!</span></span><br />\n&nbsp\;<br />\n<strong><span style="font-family:arial\,sans-serif\;"><span style="font-size:10.0pt\;">We are offering CPE for this event (up to 2 credits)</span></span></strong><br />\n&nbsp\;<br />\n<span style="font-family:arial\,sans-serif\;"><span style="font-size:10.0pt\;">By the end of the event\, you will be able to:</span></span>\n\n<ul>\n	<li style="margin-left:-.25in\;"><span style="font-family:arial\,sans-serif\;"><span style="font-size:10.0pt\;">Evaluate key drivers of entity taxation decisions</span></span></li>\n	<li style="margin-left:-.25in\;"><span style="font-family:arial\,sans-serif\;"><span style="font-size:10.0pt\;">Assess the financial impact of tax reform on your business</span></span></li>\n	<li style="margin-left:-.25in\;"><span style="font-family:arial\,sans-serif\;"><span style="font-size:10.0pt\;">Analyze tax legislation and formulate more informed business decisions in order to nurture growth.</span></span></li>\n	<li style="margin-left:-.25in\;"><span style="font-family:arial\,sans-serif\;"><span style="font-size:10.0pt\;">Identify actions steps to take personally as a result of tax reform&nbsp\;</span></span></li>\n</ul>\n&nbsp\;<br />\n<span style="font-family:arial\,sans-serif\;"><span style="font-size:10.0pt\;">For more information regarding refund\, complaint and program cancellation policies\, please contact <a href="mailto:rachele.benn@rsmus.com?subject=CPE%20question">Rachele Benn</a>.</span></span><br />\n&nbsp\;<br />\n<span style="font-family:arial\,sans-serif\;"><span style="font-size:10.0pt\;">RSM US LLP is registered with the National Association of State Boards of Accountancy (NASBA) as a sponsor of continuing professional education on the National Registry of CPE Sponsors. State boards of accountancy have final authority on the acceptance of individual courses for CPE credit. Complaints regarding registered sponsors may be addressed to the National Registry of CPE Sponsors Website: <a href="www.nasbaregistry.org">www.nasbaregistry.org</a>.</span></span><br />\n&nbsp\;
LOCATION:Lerner Crystal Ballroom\, 410 S. Main St.\, Elkhart\, IN 46516
UID:e.689.17645
SEQUENCE:3
DTSTAMP:20260424T202601Z
URL:https://business.goshen.org/events/details/tax-reform-what-does-it-mean-for-my-middle-market-indiana-business-and-me-17645
END:VEVENT

END:VCALENDAR
