BEGIN:VCALENDAR
VERSION:2.0
PRODID:-//ChamberMaster//Event Calendar 2.0//EN
METHOD:PUBLISH
X-PUBLISHED-TTL:P3D
REFRESH-INTERVAL:P3D
CALSCALE:GREGORIAN
BEGIN:VEVENT
DTSTART:20200303T130000Z
DTEND:20200303T160000Z
X-MICROSOFT-CDO-ALLDAYEVENT:FALSE
SUMMARY:Talent Development Series-The Work of Leaders: Establishing Vision\, Alignment\, and Execution
DESCRIPTION:Talent Development Series\n\nMinimizing Drama....Maximizing Effectiveness!\n\nwith Venture International\n\nStarting February 4th\n\n \n\nThe Goshen Chamber is partnering with Venture International to take a look and provide some tools to help your organization. \n\n \n\nWork demands have never been more pressing\, and the complexity of workplace problems is staggering. This leaves little time for companies to do the important work of equipping their leaders with new skills. Attending this series will offer leaders and team members insights into the concepts and skills needed to create strong teams\, build resilience\, leverage conflict\, and improve culture.\n\n \n\nThe series sessions:\n\n	Building Strong Teams on Feb 4th\n	Developing Resilient Leaders: Managing Stress Effectively on Feb 11th\n	Using Conflict Productively on Feb 18th\n	EQ: Increasing Leadership Effectiveness on Feb 25th\n	The Work of Leaders: Establishing Vision\, Alignment\, and Execution on March 3\n\n \n\nClick Here for Registration Information
X-ALT-DESC;FMTTYPE=text/html:<div class="freebirdFormviewerViewHeaderTitleRow" style="-webkit-box-align: center\; align-items: center\; display: flex\; flex-wrap: wrap\; -webkit-box-pack: justify\; justify-content: space-between\; padding-left: 0px\; padding-right: 0px\; color: rgb(32\, 33\, 36)\; font-family: Roboto\, RobotoDraft\, Helvetica\, Arial\, sans-serif\;">\n<div aria-level="1" class="freebirdFormviewerViewHeaderTitle exportFormTitle freebirdCustomFont" dir="auto" google="" role="heading" style="box-sizing: border-box\; font-size: 32px\; line-height: 43.2px\; max-width: 100%\; min-width: 0%\; font-family: "><span style="color:#BC2E2E\;"><span style="font-family:arial black\,sans-serif\;"><span style="font-size:13.5pt\;">Talent Development Series</span></span></span><br />\n<span style="color:#BC2E2E\;"><span style="font-family:arial black\,sans-serif\;"><span style="font-size:13.5pt\;">Minimizing Drama....Maximizing Effectiveness!</span></span></span><br />\n<span style="color:#BC2E2E\;"><span style="font-family:arial black\,sans-serif\;"><span style="font-size:13.5pt\;">with Venture International</span></span></span><br />\n<span style="color:#BC2E2E\;"><span style="font-family:arial black\,sans-serif\;"><span style="font-size:13.5pt\;">Starting February 4th</span></span></span><br />\n&nbsp\;<br />\n<span style="color:#352F33\;"><span style="font-family:helvetica\,sans-serif\;"><span style="font-size:12.0pt\;">The Goshen Chamber is partnering with Venture International to take a look and provide some tools to help your organization.&nbsp\;</span></span></span><br />\n&nbsp\;<br />\n<span style="color:#352F33\;"><span style="font-family:helvetica\,sans-serif\;"><span style="font-size:12.0pt\;">Work demands have never been more pressing\, and the complexity of workplace problems is staggering. This leaves little time for companies to do the important work of equipping their leaders with new skills. Attending this series will offer leaders and team members insights into the concepts and skills needed to create strong teams\, build resilience\, leverage conflict\, and improve culture.</span></span></span><br />\n&nbsp\;<br />\n<span style="color:#352F33\;"><span style="font-family:helvetica\,sans-serif\;"><span style="font-size:12.0pt\;">The series sessions:</span></span></span>\n<ol>\n	<li style="background:white\;"><span style="color:#352F33\;"><span style="font-family:helvetica\,sans-serif\;"><span style="font-size:12.0pt\;">Building Strong Teams on Feb 4th</span></span></span></li>\n	<li style="background:white\;"><span style="color:#352F33\;"><span style="font-family:helvetica\,sans-serif\;"><span style="font-size:12.0pt\;">Developing Resilient Leaders: Managing Stress Effectively on Feb 11th</span></span></span></li>\n	<li style="background:white\;"><span style="color:#352F33\;"><span style="font-family:helvetica\,sans-serif\;"><span style="font-size:12.0pt\;">Using Conflict Productively on Feb 18th</span></span></span></li>\n	<li style="background:white\;"><span style="color:#352F33\;"><span style="font-family:helvetica\,sans-serif\;"><span style="font-size:12.0pt\;">EQ: Increasing Leadership Effectiveness on Feb 25th</span></span></span></li>\n	<li style="background:white\;"><span style="color:#352F33\;"><span style="font-family:helvetica\,sans-serif\;"><span style="font-size:12.0pt\;">The Work of Leaders: Establishing Vision\, Alignment\, and Execution on March 3</span></span></span></li>\n</ol>\n&nbsp\;<br />\n<span style="color:#352F33\;"><span style="font-family:helvetica\,sans-serif\;"><span style="font-size:12.0pt\;"><a href="https://forms.gle/fSazLCsMhgd2og4G8" target="_blank"><strong><span style="color:#3661BD\;"><span style="font-size:13.5pt\;">Click Here for Registration Information</span></span></strong></a></span></span></span><br />\n<br />\n&nbsp\;</div>\n</div>\n
LOCATION:Goshen Chamber of Commerce 232 S. Main Street Goshen\, IN 46526
UID:e.689.20596
SEQUENCE:3
DTSTAMP:20260422T223056Z
URL:https://business.goshen.org/events/details/talent-development-series-the-work-of-leaders-establishing-vision-alignment-and-execution-20596
END:VEVENT

END:VCALENDAR
