BEGIN:VCALENDAR
VERSION:2.0
PRODID:-//ChamberMaster//Event Calendar 2.0//EN
METHOD:PUBLISH
X-PUBLISHED-TTL:P3D
REFRESH-INTERVAL:P3D
CALSCALE:GREGORIAN
BEGIN:VEVENT
DTSTART:20200324T120000Z
DTEND:20200324T150000Z
X-MICROSOFT-CDO-ALLDAYEVENT:FALSE
SUMMARY:Talent Development Series-Building Strong Teams
DESCRIPTION:Tuesday\, March 24 | EQ: Increasing Leadership Effectiveness\n\n8:00 - 11am at the Goshen Chamber of Commerce\n\n \n\nHere is the link to sign up for sessions. Share this email with others that you believe could benefit from the remainder of this series.  https://forms.gle/fSazLCsMhgd2og4G8\n\n \n\nThe Work of Leaders: Establishing Vision\, Alignment\, and Execution\n\nEven good leaders struggle to inspire their followers to accomplish big goals. This training is designed for those who need to share vision\, create a shared direction\, and execute goals and priorities that produce tangible results.\n\n \n\nParticipant Takeaways\n\n1) Identify your own leadership style\n\n2) Recognize how your tendencies influence your effectiveness.\n\n3) Learn how to bring Vision\, Alignment\, and Execution into one efficient model.\n\n \n\nEQ: Increasing Leadership Effectiveness\n\nRaising your EQ (Emotional Intelligence) will equip you to manage your emotions and improve team productivity and relationships.\n\n \n\nParticipant Takeaways:\n\n1) Define and differentiate between IQ and EQ\n\n2) Review and recognize personal EQ scores and tendencies\n\n3) Engage EQ in individual as well as team relationships.\n\n \n\nOur team would love to see you for these sessions!  Register Now!
X-ALT-DESC;FMTTYPE=text/html:<strong><span style="color:#45818E\;">Tuesday\, March 24</span></strong><span style="color:black\;">&nbsp\;| EQ: Increasing Leadership Effectiveness</span><br />\n<span style="color:black\;">8:00 - 11am at the Goshen Chamber of Commerce</span><br />\n&nbsp\;<br />\nHere is the link to sign up for sessions. Share this email with others that you believe could benefit from the remainder of this series.&nbsp\;&nbsp\;<a href="https://forms.gle/fSazLCsMhgd2og4G8" target="_blank">https://forms.gle/fSazLCsMhgd2og4G8</a><br />\n&nbsp\;<br />\n<strong><span style="color:#B4A7D6\;">The Work of Leaders: Establishing Vision\, Alignment\, and Execution</span></strong><br />\n<span style="color:black\;">Even good leaders struggle to inspire their followers to accomplish big goals. This training is designed for those who need to share vision\, create a shared direction\, and execute goals and priorities that produce tangible results.</span><br />\n&nbsp\;<br />\n<span style="color:black\;">Participant Takeaways</span><br />\n<span style="color:black\;">1) Identify your own leadership style</span><br />\n<span style="color:black\;">2) Recognize how your tendencies influence your effectiveness.</span><br />\n<span style="color:black\;">3) Learn how to bring Vision\, Alignment\, and Execution into one efficient model.</span><br />\n&nbsp\;<br />\n<strong><span style="color:#45818E\;">EQ: Increasing Leadership Effectiveness</span></strong><br />\n<span style="color:black\;">Raising your EQ (Emotional Intelligence) will equip you to manage your emotions and improve&nbsp\;team productivity and relationships.</span><br />\n&nbsp\;<br />\n<span style="color:black\;">Participant Takeaways:</span><br />\n<span style="color:black\;">1) Define and differentiate between IQ and EQ</span><br />\n<span style="color:black\;">2) Review and recognize personal EQ scores and tendencies</span><br />\n<span style="color:black\;">3) Engage EQ in individual&nbsp\;as well as team relationships.</span><br />\n&nbsp\;<br />\n<span style="color:black\;">Our team would love to see you for these sessions!&nbsp\; Register Now!</span>
LOCATION:Goshen Chamber of Commerce 232 S. Main Street Goshen\, IN
UID:e.689.20941
SEQUENCE:3
DTSTAMP:20260422T222303Z
URL:https://business.goshen.org/events/details/talent-development-series-building-strong-teams-20941
END:VEVENT

END:VCALENDAR
