BEGIN:VCALENDAR
VERSION:2.0
PRODID:-//ChamberMaster//Event Calendar 2.0//EN
METHOD:PUBLISH
X-PUBLISHED-TTL:P3D
REFRESH-INTERVAL:P3D
CALSCALE:GREGORIAN
BEGIN:VEVENT
DTSTART:20170118T220000Z
DTEND:20170118T230000Z
X-MICROSOFT-CDO-ALLDAYEVENT:FALSE
SUMMARY:Tae Kwon Do Classes
DESCRIPTION:This introductory class offers participants the opportunity to explore the basic techniques of Tae Kwon Do in a cooperative\, non-competitive environment. Class instruction includes brief background and philosophy of the art\, warm-ups and stretching\, basic fundamentals\, introduction to forms\, one-step sparring and self-defense\, and kicking and punching drills/exercises. Class is open to ages 6 and up. Cost is $30 per session. Instruction by Juan Munoz of Goshen Tae Kwon Do\, and class meets at 120 North Main Street. Pre-registration is required and is currently being accepted at the Goshen Parks & Recreation Office. (574) 534-2901.
X-ALT-DESC;FMTTYPE=text/html:This introductory class offers participants the opportunity to explore the basic techniques of Tae Kwon Do in a cooperative\, non-competitive environment. Class instruction includes brief background and philosophy of the art\, warm-ups and stretching\, basic fundamentals\, introduction to forms\, one-step sparring and self-defense\, and kicking and punching drills/exercises. Class is open to ages 6 and up. Cost is $30 per session. Instruction by Juan Munoz of Goshen Tae Kwon Do\, and class meets at 120 North Main Street. Pre-registration is required and is currently being accepted at the Goshen Parks &amp\; Recreation Office. (574) 534-2901.
LOCATION:
UID:e.689.16194
SEQUENCE:3
DTSTAMP:20260425T154244Z
URL:https://business.goshen.org/events/details/tae-kwon-do-classes-16194
END:VEVENT

END:VCALENDAR
