BEGIN:VCALENDAR
VERSION:2.0
PRODID:-//ChamberMaster//Event Calendar 2.0//EN
METHOD:PUBLISH
X-PUBLISHED-TTL:P3D
REFRESH-INTERVAL:P3D
CALSCALE:GREGORIAN
BEGIN:VEVENT
DTSTART:20160711T210000Z
DTEND:20160711T220000Z
X-MICROSOFT-CDO-ALLDAYEVENT:FALSE
SUMMARY:Tae Kwon Do Camp
DESCRIPTION:This introductory class offers participants the opportunity to explore the basic techniques of Tae Kwon Do in a cooperative\, non-competitive environment. Class instruction includes warmups\, fundamentals\, introduction to forms\, one-step sparring and self-defense\, kicking and punching drills and exercises. Classes meet at Goshen Tae Kwon Do Academy\, 120 N. Main Street. Pre-register at the Parks Office. Ages: 6+ Dates: July 11?14 Time: 5?6 pm Fee: $30 ---------------------------------------------- Esta clase introductoria ofrece a los participante la oportunidad de explorar las t cnicas b sicas del Tae Kwon Do en un ambiente de cooperaci n\, no competitivo. Las ense anzas de la clase incluyen calentamiento\, fundamentos\, introducci n a las formas\, entrenamiento y auto defensa\, ejercicio de patadas y pu os y ejercicio general. Edades: 6 a os y mayores Fechas: 11?14 de julio Hora: 5?6 pm Costo: $30 Lugar: Goshen Tae Kwon Do\, 120 North Main Street
X-ALT-DESC;FMTTYPE=text/html:This introductory class offers participants the opportunity to explore the basic techniques of Tae Kwon Do in a cooperative\, non-competitive environment. Class instruction includes warmups\, fundamentals\, introduction to forms\, one-step sparring and self-defense\, kicking and punching drills and exercises. Classes meet at Goshen Tae Kwon Do Academy\, 120 N. Main Street. Pre-register at the Parks Office. Ages: 6+ Dates: July 11?14 Time: 5?6 pm Fee: $30 ---------------------------------------------- Esta clase introductoria ofrece a los participante la oportunidad de explorar las t&eacute\;cnicas b&aacute\;sicas del Tae Kwon Do en un ambiente de cooperaci&oacute\;n\, no competitivo. Las ense&ntilde\;anzas de la clase incluyen calentamiento\, fundamentos\, introducci&oacute\;n a las formas\, entrenamiento y auto defensa\, ejercicio de patadas y pu&ntilde\;os y ejercicio general. Edades: 6 a&ntilde\;os y mayores Fechas: 11?14 de julio Hora: 5?6 pm Costo: $30 Lugar: Goshen Tae Kwon Do\, 120 North Main Street
LOCATION:
UID:e.689.15920
SEQUENCE:3
DTSTAMP:20260426T004911Z
URL:https://business.goshen.org/events/details/tae-kwon-do-camp-07-11-2016-15920
END:VEVENT

END:VCALENDAR
