BEGIN:VCALENDAR
VERSION:2.0
PRODID:-//ChamberMaster//Event Calendar 2.0//EN
METHOD:PUBLISH
X-PUBLISHED-TTL:P3D
REFRESH-INTERVAL:P3D
CALSCALE:GREGORIAN
BEGIN:VEVENT
DTSTART:20180319T220000Z
DTEND:20180319T233000Z
X-MICROSOFT-CDO-ALLDAYEVENT:FALSE
SUMMARY:Sweet Dreams
DESCRIPTION:Find out how a good night's sleep affects you if you have diabetes. Sleep technologist Richard Osborn will discuss the many types of sleep disorders and suggest solutions to help you sleep better. This class is for adults with diabetes\, prediabetes and family members. For more information\, call (574) 364-2746.
X-ALT-DESC;FMTTYPE=text/html:Find out how a good night&rsquo\;s sleep affects you if you have diabetes. Sleep technologist Richard Osborn will discuss the many types of sleep disorders and suggest solutions to help you sleep better. This class is for adults with diabetes\, prediabetes and family members. For more information\, call (574) 364-2746.
LOCATION:Heart & Vascular Wellness Classroom\, 2nd floor 1855 S. Main Street\, Suite C Goshen\, IN 46526
UID:e.689.17679
SEQUENCE:3
DTSTAMP:20260424T171347Z
URL:https://business.goshen.org/events/details/sweet-dreams-17679
END:VEVENT

END:VCALENDAR
