BEGIN:VCALENDAR
VERSION:2.0
PRODID:-//ChamberMaster//Event Calendar 2.0//EN
METHOD:PUBLISH
X-PUBLISHED-TTL:P3D
REFRESH-INTERVAL:P3D
CALSCALE:GREGORIAN
BEGIN:VEVENT
DTSTART:20190328T133000Z
DTEND:20190328T150000Z
X-MICROSOFT-CDO-ALLDAYEVENT:FALSE
SUMMARY:Sustainable Farming: Harmony with the Land
DESCRIPTION:Plenty of farms raise crops these days\, but how many farms seek to incorporate not just goats or tomatoes  but also oaks and frogs in the scope of their operation? How does one determine where a farm 'ends'\, and where nature 'begins'? Join us as we learn about the Sustainable Farm at Merry Lea Environmental Learning Center and explore introductory concepts of agroecology. Participants will share about their own experiences on farms\, and learn about cover crops\, seed saving\, and more in this interactive session. Marcos Stoltzfus is the Director of Environmental Education Outreach at Merry Lea. Taught by Marcos Stoltzfus Register Online: www.life-learn.org Mail or Stop in: Goshen College Box Office\, 1700 South Main Street\, Goshen\, IN 46526 (Located in the Music Center lobby\, open M-F\, 9:00 a.m.-1:00 p.m.) Phone: 574-535-7566
X-ALT-DESC;FMTTYPE=text/html:Plenty of farms raise crops these days\, but how many farms seek to incorporate not just goats or tomatoes &hellip\;but also oaks and frogs in the scope of their operation? How does one determine where a farm &lsquo\;ends&rsquo\;\, and where nature &lsquo\;begins&rsquo\;? Join us as we learn about the Sustainable Farm at Merry Lea Environmental Learning Center and explore introductory concepts of agroecology. Participants will share about their own experiences on farms\, and learn about cover crops\, seed saving\, and more in this interactive session. Marcos Stoltzfus is the Director of Environmental Education Outreach at Merry Lea. Taught by Marcos Stoltzfus Register Online: www.life-learn.org Mail or Stop in: Goshen College Box Office\, 1700 South Main Street\, Goshen\, IN 46526 (Located in the Music Center lobby\, open M-F\, 9:00 a.m.-1:00 p.m.) Phone: 574-535-7566
LOCATION:Greencroft Goshen Community Center Jennings Auditorium
UID:e.689.18597
SEQUENCE:3
DTSTAMP:20260423T183607Z
URL:https://business.goshen.org/events/details/sustainable-farming-harmony-with-the-land-18597
END:VEVENT

END:VCALENDAR
