BEGIN:VCALENDAR
VERSION:2.0
PRODID:-//ChamberMaster//Event Calendar 2.0//EN
METHOD:PUBLISH
X-PUBLISHED-TTL:P3D
REFRESH-INTERVAL:P3D
CALSCALE:GREGORIAN
BEGIN:VEVENT
DTSTART:20190427T123000Z
DTEND:20190427T150000Z
X-MICROSOFT-CDO-ALLDAYEVENT:FALSE
SUMMARY:Superhero 5K
DESCRIPTION:Open to the community   Join CAPS   Child and Parent Services at the Elkhart Civic Plaza from 8:30 a.m. to 11 a.m. for the Superhero 5K Family Fun Run to help fight child abuse. Dress in your favorite hero or super villain. There will be a "Sidekicks Fun Run for the kids and a costume contest. Plus\, a little extra surprise will be revealed that you won't want to miss. For more information and to register\, visit capselkhart.org.
X-ALT-DESC;FMTTYPE=text/html:Open to the community &ndash\; Join CAPS &ndash\; Child and Parent Services at the Elkhart Civic Plaza from 8:30 a.m. to 11 a.m. for the Superhero 5K Family Fun Run to help fight child abuse. Dress in your favorite hero or super villain. There will be a &ldquo\;Sidekicks Fun Run for the kids and a costume contest. Plus\, a little extra surprise will be revealed that you won&rsquo\;t want to miss. For more information and to register\, visit capselkhart.org.
LOCATION:Elkhart Civic Plaza
UID:e.689.19205
SEQUENCE:3
DTSTAMP:20260423T163428Z
URL:https://business.goshen.org/events/details/superhero-5k-19205
END:VEVENT

END:VCALENDAR
