BEGIN:VCALENDAR
VERSION:2.0
PRODID:-//ChamberMaster//Event Calendar 2.0//EN
METHOD:PUBLISH
X-PUBLISHED-TTL:P3D
REFRESH-INTERVAL:P3D
CALSCALE:GREGORIAN
BEGIN:VEVENT
DTSTART:20170417T220000Z
DTEND:20170418T010000Z
X-MICROSOFT-CDO-ALLDAYEVENT:FALSE
SUMMARY:Summer Softball League- Men's Slow Pitch
DESCRIPTION:The Park Office is now accepting registrations for Summer Softball League! This is an officiated and USA-sanctioned league with league rule variations. Doubleheader format and a single-elimination tournament will follow regular season play. Awards are given to top two tournament champions in each division. Standings are kept throughout the season and posted to the league website: www.leaguelineup.com/gprdsoftball. Evenings of play are Mondays (C League)\, Tuesdays (A & C Leagues)\, Wednesdays (rain makeup games)\, Thursdays (B League)\, and Friday (league type to be determined based upon team registrations). Skill levels: A League is good to advanced players\; B League is intermediate\, moderate to highly skilled players\; and C League is recreational\, average to above average players. Season: April 17 through week of July 28 (dates are dependent on weather and make-up games) Location: Shanklin Park Team Fee: $600 For more information\, contact: Frank at 534-6723.
X-ALT-DESC;FMTTYPE=text/html:The Park Office is now accepting registrations for Summer Softball League! This is an officiated and USA-sanctioned league with league rule variations. Doubleheader format and a single-elimination tournament will follow regular season play. Awards are given to top two tournament champions in each division. Standings are kept throughout the season and posted to the league website: www.leaguelineup.com/gprdsoftball. Evenings of play are Mondays (C League)\, Tuesdays (A &amp\; C Leagues)\, Wednesdays (rain makeup games)\, Thursdays (B League)\, and Friday (league type to be determined based upon team registrations). Skill levels: A League is good to advanced players\; B League is intermediate\, moderate to highly skilled players\; and C League is recreational\, average to above average players. Season: April 17 through week of July 28 (dates are dependent on weather and make-up games) Location: Shanklin Park Team Fee: $600 For more information\, contact: Frank at 534-6723.
LOCATION:Shanklin Park
UID:e.689.16615
SEQUENCE:3
DTSTAMP:20260425T104318Z
URL:https://business.goshen.org/events/details/summer-softball-league-men-s-slow-pitch-16615
END:VEVENT

END:VCALENDAR
