BEGIN:VCALENDAR
VERSION:2.0
PRODID:-//ChamberMaster//Event Calendar 2.0//EN
METHOD:PUBLISH
X-PUBLISHED-TTL:P3D
REFRESH-INTERVAL:P3D
CALSCALE:GREGORIAN
BEGIN:VEVENT
DTSTART:20160531T210000Z
DTEND:20160616T220000Z
X-MICROSOFT-CDO-ALLDAYEVENT:FALSE
SUMMARY:Summer Session Water Aerobics at Shanklin Pool
DESCRIPTION:This water exercise class has something for everyone and is suitable for all fitness levels. The class includes a morning stretch\, thermal warm-up aerobic training as well as strength\, core training\, flexibility and balance. Because the water creates more resistance than land\, this workout is efficient and easy on the joints and one gets a great workout without sweating. Various water levels are used to create variety and to alleviate the ability to swim. Your instructor has 25 years of experience and is trained by the Aquatic Exercise Association\, an internationally acclaimed organization with the highest of standards. She believes that exercise and fitness are crucial to each individual?s physical\, psychological and emotional health. Register at the Goshen Parks Office or at class with your instructor\, but please call ahead to ensure class is meeting at the regularly scheduled time. Register anytime throughout sessions for pro-rated session cost ($5/class) or take advantage of dropping in anytime throughout sessions using our drop-in rate of $6 per class. For group rates\, call Tanya at 534-2901. Classes meet Tuesdays and Thursdays\, 5-6 pm at Shanklin Pool. Summer Session: May 31-June 16
X-ALT-DESC;FMTTYPE=text/html:This water exercise class has something for everyone and is suitable for all fitness levels. The class includes a morning stretch\, thermal warm-up aerobic training as well as strength\, core training\, flexibility and balance. Because the water creates more resistance than land\, this workout is efficient and easy on the joints and one gets a great workout without sweating. Various water levels are used to create variety and to alleviate the ability to swim. Your instructor has 25 years of experience and is trained by the Aquatic Exercise Association\, an internationally acclaimed organization with the highest of standards. She believes that exercise and fitness are crucial to each individual?s physical\, psychological and emotional health. Register at the Goshen Parks Office or at class with your instructor\, but please call ahead to ensure class is meeting at the regularly scheduled time. Register anytime throughout sessions for pro-rated session cost ($5/class) or take advantage of dropping in anytime throughout sessions using our drop-in rate of $6 per class. For group rates\, call Tanya at 534-2901. Classes meet Tuesdays and Thursdays\, 5-6 pm at Shanklin Pool. Summer Session: May 31-June 16
LOCATION:Shanklin Pool
UID:e.689.15845
SEQUENCE:3
DTSTAMP:20260426T035924Z
URL:https://business.goshen.org/events/details/summer-session-water-aerobics-at-shanklin-pool-05-31-2016-15845
END:VEVENT

END:VCALENDAR
