BEGIN:VCALENDAR
VERSION:2.0
PRODID:-//ChamberMaster//Event Calendar 2.0//EN
METHOD:PUBLISH
X-PUBLISHED-TTL:P3D
REFRESH-INTERVAL:P3D
CALSCALE:GREGORIAN
BEGIN:VEVENT
DTSTART:20160615T203000Z
DTEND:20160615T231500Z
X-MICROSOFT-CDO-ALLDAYEVENT:FALSE
SUMMARY:Summer Dance Classes
DESCRIPTION:The perfect seven-week introduction to dance for new students\, as well as a great refresher course for returning dancers! Priority registration begins for returning dancers begins May 2\, and open registration for new students begins May 9. Classes will meet on Wednesdays\, June 15?July 27 at our downtown dance studio\, 216 S. Main Street. 3?4 years: 4:30?5 pm\, Creative Dance\, $48 4?5 years: 5:15?6 pm\, Dance Sampler\, $64 6?8 years: 6:15?7:15 pm\, Ballet/Modern\, $80
X-ALT-DESC;FMTTYPE=text/html:The perfect seven-week introduction to dance for new students\, as well as a great refresher course for returning dancers! Priority registration begins for returning dancers begins May 2\, and open registration for new students begins May 9. Classes will meet on Wednesdays\, June 15?July 27 at our downtown dance studio\, 216 S. Main Street. 3?4 years: 4:30?5 pm\, Creative Dance\, $48 4?5 years: 5:15?6 pm\, Dance Sampler\, $64 6?8 years: 6:15?7:15 pm\, Ballet/Modern\, $80
LOCATION:
UID:e.689.15907
SEQUENCE:3
DTSTAMP:20260426T022331Z
URL:https://business.goshen.org/events/details/summer-dance-classes-06-15-2016-15907
END:VEVENT

END:VCALENDAR
