BEGIN:VCALENDAR
VERSION:2.0
PRODID:-//ChamberMaster//Event Calendar 2.0//EN
METHOD:PUBLISH
X-PUBLISHED-TTL:P3D
REFRESH-INTERVAL:P3D
CALSCALE:GREGORIAN
BEGIN:VEVENT
DTSTART:20180921T160000Z
DTEND:20180921T203000Z
X-MICROSOFT-CDO-ALLDAYEVENT:FALSE
SUMMARY:Join us in supporting the American Cancer Society - Indiana to Make Strides Against Breast Cancer!
DESCRIPTION:Join us in supporting the American Cancer Society - Indiana to make strides against breast cancer!\n\nStop by our Goshen branch (1716 Elkhart Rd.) on September 21st\, take a photo with the giant pink chair\, and post it to Facebook tagging the Making Strides Michiana page. For every post made\, we'll donate $5 to Making Strides Michiana\, taking place on October 6th!"\n\n*No purchase necessary. Must be 18 years or older to redeem. Centier Bank associates and family are not eligible to participate. Limit one per family. Valid only at Centier Bank's Goshen banking at 1716 Elkhart Road. One $5 donation per personal Facebook post. Centier will donate $500 max to American Cancer Society - Indiana. Offer expires 09/22/18
X-ALT-DESC;FMTTYPE=text/html:<p><strong><span style="color:#cc00cc">Join us in supporting the&nbsp\;</span><a class="profileLink" href="https://www.facebook.com/AmericanCancerSocietyIndiana/?fref=mentions&amp\;__xts__%5B0%5D=68.ARD3Tga2AQJJ_esvKNVur7Sdm__tr8DFcKG7cuyHty6iqYQWtnx9w-vYjlDdihvWlUZ2fGpbcdMxbW_C8_XraKYq9FTyGTbid3RyI5tubYTX364cWscXRKz-9q9F1-gVSsT8YTHxlfkR8v3z1cqFP8nyM59cAS2YI3quGPgE3Sdse4gZxhRdWA&amp\;__tn__=K-R" style="color: rgb(54\, 88\, 153)\; cursor: pointer\; text-decoration-line: none\; font-family: inherit\;"><span style="color:#cc00cc">American Cancer Society - Indiana</span></a><span style="color:#cc00cc">&nbsp\;to make strides against breast cancer!<br />\nStop by our Goshen branch (1716 Elkhart Rd.) on September 21st\, take a photo with the giant pink chair\, and post it to Facebook tagging the&nbsp\;</span><a class="profileLink" href="https://www.facebook.com/makingstridesmichiana/?fref=mentions&amp\;__xts__%5B0%5D=68.ARD3Tga2AQJJ_esvKNVur7Sdm__tr8DFcKG7cuyHty6iqYQWtnx9w-vYjlDdihvWlUZ2fGpbcdMxbW_C8_XraKYq9FTyGTbid3RyI5tubYTX364cWscXRKz-9q9F1-gVSsT8YTHxlfkR8v3z1cqFP8nyM59cAS2YI3quGPgE3Sdse4gZxhRdWA&amp\;__tn__=K-R" style="color: rgb(54\, 88\, 153)\; cursor: pointer\; text-decoration-line: none\; font-family: inherit\;"><span style="color:#cc00cc">Making Strides Michiana</span></a><span style="color:#cc00cc">&nbsp\;page. For every post made\, we&rsquo\;ll donate $5 to Making Strides Michiana\, taking place on October 6th!&rdquo\;</span></strong></p>\n\n<p><em><span style="font-size:9px">*No purchase necessary. Must be 18 years or older to redeem. Centier Bank associates and family are not eligible to participate. Limit one per family. Valid only at Centier Bank&rsquo\;s Goshen banking at 1716 Elkhart Road. One $5 donation per personal Facebook post. Centier will donate $500 max to American Cancer Society - Indiana. Offer expires 09/22/18</span></em></p>\n
LOCATION:Centier Bank 1716 Elkhart Rd. Goshen\, IN 46526
UID:e.689.18227
SEQUENCE:3
DTSTAMP:20260424T071524Z
URL:https://business.goshen.org/events/details/strides-against-breast-cancer-18227
END:VEVENT

END:VCALENDAR
