BEGIN:VCALENDAR
VERSION:2.0
PRODID:-//ChamberMaster//Event Calendar 2.0//EN
METHOD:PUBLISH
X-PUBLISHED-TTL:P3D
REFRESH-INTERVAL:P3D
CALSCALE:GREGORIAN
BEGIN:VEVENT
DTSTART:20180531T220000Z
DTEND:20180531T230000Z
X-MICROSOFT-CDO-ALLDAYEVENT:FALSE
SUMMARY:Still A Probelm: The Tobacco Industry is Targeting Our Youth!
DESCRIPTION:Join the conversation about the effects of tobacco marketing in Elkhart County and the impact on youth initiation and continued use. Hear testimonies from a panel consisting of health experts as well as local community members and leaders.
X-ALT-DESC;FMTTYPE=text/html:Join the conversation about the effects of tobacco marketing in Elkhart County and the impact on youth initiation and continued use. Hear testimonies from a panel consisting of health experts as well as local community members and leaders.
LOCATION:Elkhart County Public Services Building 4230 Elkhart Road Goshen\, IN 46526
UID:e.689.17839
SEQUENCE:3
DTSTAMP:20260424T134612Z
URL:https://business.goshen.org/events/details/still-a-probelm-the-tobacco-industry-is-targeting-our-youth-17839
END:VEVENT

END:VCALENDAR
