BEGIN:VCALENDAR
VERSION:2.0
PRODID:-//ChamberMaster//Event Calendar 2.0//EN
METHOD:PUBLISH
X-PUBLISHED-TTL:P3D
REFRESH-INTERVAL:P3D
CALSCALE:GREGORIAN
BEGIN:VEVENT
DTSTART:20171025T153000Z
DTEND:20171025T170000Z
X-MICROSOFT-CDO-ALLDAYEVENT:FALSE
SUMMARY:Stay Strong - A workshop about Small Business tax laws and compliance issues.
DESCRIPTION:Do you have questions and concerns about 2018 changes for Small Business Tax Laws? Compliance for your unique Industry? Registering a Business? Closing a Business? InBiz and InTax? WH-3? BIA Bill? Sales Tax Exempt Purchases?  You are invited to a workshop where Michael Pang\, a Revenue Tax Auditor for Indiana Department of Revenue\, will provide answers for your questions. Field Examiner Michael Pang joined the Indiana Department of Revenue in August 1994 and currently works out of the South Bend District Office conducting field audits regarding income\, withholding\, and sales & use taxes.  Michael has been a licensed Certified Public Accountant since November 2001 and has a bachelor's degree in accounting from the University of Notre Dame and an MBA from Indiana University   South Bend.   The Stay Strong workshop covers such topics as:             Indiana Department of Revenue policies           Where to find information and resources about tax law updates           Making tax compliance easier with electronic filing           Addressing compliance issues\, collection notices and audits           Procedures for closing a business
X-ALT-DESC;FMTTYPE=text/html:Do you have questions and concerns about&nbsp\;2018 changes for Small Business Tax Laws? Compliance for your unique Industry? Registering a Business? Closing a Business? InBiz and InTax? WH-3? BIA Bill?&nbsp\;Sales Tax Exempt Purchases?&nbsp\; You are invited to a workshop where Michael Pang\, a Revenue Tax Auditor for Indiana Department of Revenue\, will provide answers for your&nbsp\;questions. Field Examiner Michael Pang joined the Indiana Department of Revenue in August 1994 and currently works out of the South Bend District Office conducting field audits regarding income\, withholding\, and sales &amp\; use taxes.&nbsp\; Michael has been a licensed Certified Public Accountant since November 2001 and has a bachelor&rsquo\;s degree in accounting from the University of Notre Dame and an MBA from Indiana University &ndash\; South Bend. &nbsp\; The Stay Strong workshop covers such topics as: &nbsp\; &middot\;&nbsp\;&nbsp\;&nbsp\;&nbsp\;&nbsp\;&nbsp\;&nbsp\;&nbsp\; Indiana Department of Revenue policies &middot\;&nbsp\;&nbsp\;&nbsp\;&nbsp\;&nbsp\;&nbsp\;&nbsp\;&nbsp\; Where to find information and resources about tax law updates &middot\;&nbsp\;&nbsp\;&nbsp\;&nbsp\;&nbsp\;&nbsp\;&nbsp\;&nbsp\; Making tax compliance easier with electronic filing &middot\;&nbsp\;&nbsp\;&nbsp\;&nbsp\;&nbsp\;&nbsp\;&nbsp\;&nbsp\; Addressing compliance issues\, collection notices and audits &middot\;&nbsp\;&nbsp\;&nbsp\;&nbsp\;&nbsp\;&nbsp\;&nbsp\;&nbsp\; Procedures for closing a business
LOCATION:Goshen Chamber of Commerce 232 S Main St Goshen\, IN 46526
UID:e.689.17029
SEQUENCE:3
DTSTAMP:20260425T005341Z
URL:https://business.goshen.org/events/details/stay-strong-a-workshop-about-small-business-tax-laws-and-compliance-issues-17029
END:VEVENT

END:VCALENDAR
