BEGIN:VCALENDAR
VERSION:2.0
PRODID:-//ChamberMaster//Event Calendar 2.0//EN
METHOD:PUBLISH
X-PUBLISHED-TTL:P3D
REFRESH-INTERVAL:P3D
CALSCALE:GREGORIAN
BEGIN:VEVENT
DTSTART:20190313T220000Z
DTEND:20190313T230000Z
X-MICROSOFT-CDO-ALLDAYEVENT:FALSE
SUMMARY:St. John Catholic School Open House
DESCRIPTION:St. John Catholic School\n\nOpen House\n\nWednesday\, March 13th\n\n6:00-7:00 p.m.\n\nEnrolling students PreK through Grade 5  \n\n \n\nLocated at 117 W. Monroe Street - near downtown
X-ALT-DESC;FMTTYPE=text/html:St. John Catholic School<br />\nOpen House<br />\nWednesday\, March 13th<br />\n6:00-7:00 p.m.<br />\nEnrolling students PreK through Grade 5&nbsp\;&nbsp\;<br />\n&nbsp\;<br />\nLocated at 117 W. Monroe Street - near downtown
LOCATION:Located at 117 W. Monroe Street - near downtown
UID:e.689.19196
SEQUENCE:3
DTSTAMP:20260423T194424Z
URL:https://business.goshen.org/events/details/st-john-catholic-school-open-house-19196
END:VEVENT

END:VCALENDAR
