BEGIN:VCALENDAR
VERSION:2.0
PRODID:-//ChamberMaster//Event Calendar 2.0//EN
METHOD:PUBLISH
X-PUBLISHED-TTL:P3D
REFRESH-INTERVAL:P3D
CALSCALE:GREGORIAN
BEGIN:VEVENT
DTSTART:20160507T140000Z
DTEND:20160507T230000Z
X-MICROSOFT-CDO-ALLDAYEVENT:FALSE
SUMMARY:Spring Crafts & More Show
DESCRIPTION:Crafters\, Artisans\, Home based businesses and commercial vendors are invited to participate.  Register on-line at the events tab on the home page.  Participate in both our Spring and Fall Crafts & More Show\, Oct. 8 and receive FREE entry to our Gifts Extravaganza on November 5\, 2016.
X-ALT-DESC;FMTTYPE=text/html:Crafters\, Artisans\, Home based businesses and commercial vendors are invited to participate.&nbsp\; Register on-line at the events tab on the home page.&nbsp\; Participate in both our Spring and Fall Crafts &amp\; More Show\, Oct. 8 and receive FREE entry to our Gifts Extravaganza on November 5\, 2016.
LOCATION:Concord Mall\, 3701 S. Main Street\, Elkhart\, IN 46517
UID:e.689.15955
SEQUENCE:3
DTSTAMP:20260426T035545Z
URL:https://business.goshen.org/events/details/spring-crafts-more-show-05-07-2016-15955
END:VEVENT

END:VCALENDAR
