BEGIN:VCALENDAR
VERSION:2.0
PRODID:-//ChamberMaster//Event Calendar 2.0//EN
METHOD:PUBLISH
X-PUBLISHED-TTL:P3D
REFRESH-INTERVAL:P3D
CALSCALE:GREGORIAN
BEGIN:VEVENT
DTSTART:20170426T190000Z
DTEND:20170426T220000Z
X-MICROSOFT-CDO-ALLDAYEVENT:FALSE
SUMMARY:Spring Bash
DESCRIPTION:Spring Bash\n\nGrillin'\, Chillin' & Registerin'\n\nRegister Now for Summer and Fall Classes\n\nCampus tours available.\n\nDoor prizes! Must be present to win!
X-ALT-DESC;FMTTYPE=text/html:Spring Bash<br />\nGrillin&#39\;\, Chillin&#39\; &amp\; Registerin&#39\;<br />\nRegister Now for Summer and Fall Classes<br />\nCampus tours available.<br />\nDoor prizes! Must be present to win!
LOCATION:Ivy Tech Community College 22531 County Road 18 Goshen\, IN 46528
UID:e.689.16765
SEQUENCE:3
DTSTAMP:20260425T103644Z
URL:https://business.goshen.org/events/details/spring-bash-16765
END:VEVENT

END:VCALENDAR
