BEGIN:VCALENDAR
VERSION:2.0
PRODID:-//ChamberMaster//Event Calendar 2.0//EN
METHOD:PUBLISH
X-PUBLISHED-TTL:P3D
REFRESH-INTERVAL:P3D
CALSCALE:GREGORIAN
BEGIN:VEVENT
DTSTART:20170311T150000Z
DTEND:20170312T000000Z
X-MICROSOFT-CDO-ALLDAYEVENT:FALSE
SUMMARY:Sports Cards & Collectibles Show
DESCRIPTION:Sports Cards & Memorabilia vendors will be on site throughout the day - buy\, sell and/or trade. Interested vendors may contact: Juan Ruiz at 574-952-0804 or juanski@culcom.net.
X-ALT-DESC;FMTTYPE=text/html:Sports Cards &amp\; Memorabilia vendors will be on site throughout the day - buy\, sell and/or trade. Interested vendors may contact: Juan Ruiz at 574-952-0804 or <a href="mailto:juanski@culcom.net">juanski@culcom.net</a>.
LOCATION:Concord Mall 3701 S. Main Stree Elkhart\, IN 46517 574-875-6502
UID:e.689.16713
SEQUENCE:3
DTSTAMP:20260425T122817Z
URL:https://business.goshen.org/events/details/sports-cards-collectibles-show-03-11-2017-16713
END:VEVENT

END:VCALENDAR
