BEGIN:VCALENDAR
VERSION:2.0
PRODID:-//ChamberMaster//Event Calendar 2.0//EN
METHOD:PUBLISH
X-PUBLISHED-TTL:P3D
REFRESH-INTERVAL:P3D
CALSCALE:GREGORIAN
BEGIN:VEVENT
DTSTART:20190131T170000Z
DTEND:20190131T210000Z
X-MICROSOFT-CDO-ALLDAYEVENT:FALSE
SUMMARY:Spare Time With The Chamber
DESCRIPTION:10th Annual Spare Time with the Chamber\n\nBowling Outing\n\n\n\nThe Most Creative NETWORKING around!\n\nSponsored by:\n\nGoshen Health and Everence Financial\n\n\n\n3 Games - Lunch - Snacks - Drinks\n\n \n\nJoin us on Thursday\, January 31st at the newly remodeled Maple City Bowl.  New Owner Roger Brown\, has revamped the inside of the ally as well as the menu.  This event is a Chamber Member favorite\, so don't wait to register.  Put a team of coworkers\, clients\, friends together or let us put you on a team as an individual for a great price.  Again\, don't wait\, we only have 24 lanes and they do fill up.  Register today!
X-ALT-DESC;FMTTYPE=text/html:<div style="text-align: center\;"><span style="font-size: 20px\;"><strong>10th Annual Spare Time with the Chamber<br />\nBowling Outing<br />\n<br />\nThe Most Creative NETWORKING around!<br />\nSponsored by:<br />\nGoshen Health and Everence Financial</strong></span><br />\n<br />\n<strong><span style="font-size: 18px\;">3 Games - Lunch - Snacks - Drinks</span></strong><br />\n&nbsp\;</div>\n\n<div>Join us on Thursday\, January 31st at the newly remodeled Maple City Bowl.&nbsp\; New Owner Roger Brown\, has revamped the inside of the ally as well as the menu.&nbsp\; This event is a Chamber Member favorite\, so don&#39\;t wait to register.&nbsp\; Put a team of coworkers\, clients\, friends together or let us put you on a team as an individual for a great price.&nbsp\; Again\, don&#39\;t wait\, we only have 24 lanes and they do fill up.&nbsp\; Register today!</div>\n
LOCATION:Maple City Bowl 1300 West Pike Street Goshen\, IN
UID:e.689.16369
SEQUENCE:3
DTSTAMP:20260423T213136Z
URL:https://business.goshen.org/events/details/spare-time-with-the-chamber-01-28-2019-16369
END:VEVENT

END:VCALENDAR
