BEGIN:VCALENDAR
VERSION:2.0
PRODID:-//ChamberMaster//Event Calendar 2.0//EN
METHOD:PUBLISH
X-PUBLISHED-TTL:P3D
REFRESH-INTERVAL:P3D
CALSCALE:GREGORIAN
BEGIN:VEVENT
DTSTART:20180201T170000Z
DTEND:20180201T220000Z
X-MICROSOFT-CDO-ALLDAYEVENT:FALSE
SUMMARY:Spare Time With The Chamber
DESCRIPTION:10th Annual Spare Time with the Chamber\n\nThe Most Creative NETWORKING there is!!!!\n\n\n\n3 Games - Lunch - Snacks - Drinks
X-ALT-DESC;FMTTYPE=text/html:<div style="text-align: center\;"><span style="color: rgb(51\, 51\, 51)\; font-family: sans-serif\, Arial\, Verdana\, &quot\;Trebuchet MS&quot\;\; text-align: center\; background-color: rgb(255\, 255\, 255)\; font-size: 20px\;"><strong>10th&nbsp\;Annual Spare Time with the Chamber<br />\nThe Most Creative NETWORKING there is!!!!</strong></span><br style="color: rgb(51\, 51\, 51)\; font-family: sans-serif\, Arial\, Verdana\, &quot\;Trebuchet MS&quot\;\; font-size: 13px\; text-align: center\; background-color: rgb(255\, 255\, 255)\;" />\n<br style="color: rgb(51\, 51\, 51)\; font-family: sans-serif\, Arial\, Verdana\, &quot\;Trebuchet MS&quot\;\; font-size: 13px\; text-align: center\; background-color: rgb(255\, 255\, 255)\;" />\n<strong style="color: rgb(51\, 51\, 51)\; font-family: sans-serif\, Arial\, Verdana\, &quot\;Trebuchet MS&quot\;\; font-size: 13px\; text-align: center\; background-color: rgb(255\, 255\, 255)\;"><span style="font-size: 18px\;">3 Games - Lunch - Snacks - Drinks</span></strong><br style="color: rgb(51\, 51\, 51)\; font-family: sans-serif\, Arial\, Verdana\, &quot\;Trebuchet MS&quot\;\; font-size: 13px\; text-align: center\; background-color: rgb(255\, 255\, 255)\;" />\n&nbsp\;</div>\n
LOCATION:Maple City Bowl 1300 West Pike Street Goshen\, IN
UID:e.689.16368
SEQUENCE:3
DTSTAMP:20260424T184721Z
URL:https://business.goshen.org/events/details/spare-time-with-the-chamber-01-28-2018-16368
END:VEVENT

END:VCALENDAR
