BEGIN:VCALENDAR
VERSION:2.0
PRODID:-//ChamberMaster//Event Calendar 2.0//EN
METHOD:PUBLISH
X-PUBLISHED-TTL:P3D
REFRESH-INTERVAL:P3D
CALSCALE:GREGORIAN
BEGIN:VEVENT
DTSTART;VALUE=DATE:20171125
DTEND;VALUE=DATE:20171126
TRANSP:TRANSPARENT
X-MICROSOFT-CDO-ALLDAYEVENT:TRUE
SUMMARY:Small Business Saturday
DESCRIPTION:SMALL BUSINESS SATURDAY - NOVEMBER 25th\, 2017\n\n\n\n\n\nIt's right around the corner. Celebrate your community with the small businesses that make it special!
X-ALT-DESC;FMTTYPE=text/html:<div style="text-align: center\;"><span style="font-size:22px\;"><strong>SMALL BUSINESS SATURDAY - NOVEMBER 25th\, 2017</strong><br />\n<br />\n<br />\nIt&#39\;s right around the corner. Celebrate your community with the small businesses&nbsp\;that make it special!</span><br />\n<br />\n&nbsp\;</div>\n
LOCATION:
UID:e.689.16717
SEQUENCE:3
DTSTAMP:20260424T231019Z
URL:https://business.goshen.org/events/details/small-business-saturday-16717
END:VEVENT

END:VCALENDAR
