BEGIN:VCALENDAR
VERSION:2.0
PRODID:-//ChamberMaster//Event Calendar 2.0//EN
METHOD:PUBLISH
X-PUBLISHED-TTL:P3D
REFRESH-INTERVAL:P3D
CALSCALE:GREGORIAN
BEGIN:VEVENT
DTSTART:20170318T163000Z
DTEND:20170318T180000Z
X-MICROSOFT-CDO-ALLDAYEVENT:FALSE
SUMMARY:Silly Safari Shows with Amazon John!
DESCRIPTION:Silly Safari Shows starring Amazon John will be held at 12:30p with a Meet-n-Greet to follow and 2p with a Meet-n-Greet to follow.
X-ALT-DESC;FMTTYPE=text/html:Silly Safari Shows starring Amazon John will be held at 12:30p with a Meet-n-Greet to follow and 2p with a Meet-n-Greet to follow.
LOCATION:Concord Mall 3701 S. Main Street Elkhart\, IN 46517 574-875-6502
UID:e.689.16715
SEQUENCE:3
DTSTAMP:20260425T122353Z
URL:https://business.goshen.org/events/details/silly-safari-shows-with-amazon-john-16715
END:VEVENT

END:VCALENDAR
