BEGIN:VCALENDAR
VERSION:2.0
PRODID:-//ChamberMaster//Event Calendar 2.0//EN
METHOD:PUBLISH
X-PUBLISHED-TTL:P3D
REFRESH-INTERVAL:P3D
CALSCALE:GREGORIAN
BEGIN:VEVENT
DTSTART:20171118T173000Z
DTEND:20171118T180000Z
X-MICROSOFT-CDO-ALLDAYEVENT:FALSE
SUMMARY:Silly Safari Show with Snowstorm Steve
DESCRIPTION:Silly Safari Reindeer Reserve Show starring Snowstorm Steve and animals of the North Pole will be at the center court stage at 12:30p.  You can meet Snowstorm Steve and his LIVE Reindeer from 1:15-2:00p.\n\n\n\nCome spend the day and enjoy the fun with your family at Concord Mall! Santa and Mrs. Claus will arrive at 1p\, kids are invited to join Santa in the Parade! Santa will be available for visits and photos from 2-5p and will return to the mall on Friday\, November 24 at 1:00p.
X-ALT-DESC;FMTTYPE=text/html:Silly Safari Reindeer Reserve Show starring Snowstorm Steve and animals of the North Pole will be at the center court stage at 12:30p.&nbsp\; You can meet Snowstorm Steve and his LIVE Reindeer from 1:15-2:00p.<br />\n<br />\nCome spend the day and enjoy the fun with your family at Concord Mall! Santa and Mrs. Claus will arrive at 1p\, kids are invited to join Santa in the Parade! Santa will be available for visits and photos from 2-5p and will return to the mall on Friday\, November 24 at 1:00p.
LOCATION:Concord Mall 3701 S. Main Street Elkhart\, IN 46517 574-875-6502
UID:e.689.17443
SEQUENCE:3
DTSTAMP:20260424T231447Z
URL:https://business.goshen.org/events/details/silly-safari-show-with-snowstorm-steve-17443
END:VEVENT

END:VCALENDAR
