BEGIN:VCALENDAR
VERSION:2.0
PRODID:-//ChamberMaster//Event Calendar 2.0//EN
METHOD:PUBLISH
X-PUBLISHED-TTL:P3D
REFRESH-INTERVAL:P3D
CALSCALE:GREGORIAN
BEGIN:VEVENT
DTSTART:20171202T140000Z
DTEND:20171202T150000Z
X-MICROSOFT-CDO-ALLDAYEVENT:FALSE
SUMMARY:SIBLING CLASSES
DESCRIPTION:WELCOME A NEW BROTHER OR SISTER. Join us in an educational class for expecting families and soon to be siblings in preparation for the welcoming of a newborn into the family.   Geared towards children ages 2-10 years old   Children learn what to expect with a newborn at home   Teaching the basics: holding and diapering baby   Family tour of the OB unit   Refreshments provided   Children may bring dolls/stuffed animals to practice new skills
X-ALT-DESC;FMTTYPE=text/html:WELCOME A NEW BROTHER OR SISTER. Join us in an educational class for expecting families and soon to be siblings in preparation for the welcoming of a newborn into the family. &bull\; Geared towards children ages 2-10 years old &bull\; Children learn what to expect with a newborn at home &bull\; Teaching the basics: holding and diapering baby &bull\; Family tour of the OB unit &bull\; Refreshments provided &bull\; Children may bring dolls/stuffed animals to practice new skills
LOCATION:Goshen Hospital\, Birch/Walnut Room 200 High Park Ave. Goshen\, IN 46526
UID:e.689.17456
SEQUENCE:3
DTSTAMP:20260424T214045Z
URL:https://business.goshen.org/events/details/sibling-classes-17456
END:VEVENT

END:VCALENDAR
