BEGIN:VCALENDAR
VERSION:2.0
PRODID:-//ChamberMaster//Event Calendar 2.0//EN
METHOD:PUBLISH
X-PUBLISHED-TTL:P3D
REFRESH-INTERVAL:P3D
CALSCALE:GREGORIAN
BEGIN:VEVENT
DTSTART:20180804T130000Z
DTEND:20180804T140000Z
X-MICROSOFT-CDO-ALLDAYEVENT:FALSE
SUMMARY:SIBLING CLASS
DESCRIPTION:WELCOME A NEW BROTHER OR SISTER Join us in an educational class for expecting families and soon to be siblings in preparation for the welcoming of a newborn.   Geared towards children ages 2-10 years old   Children learn what to expect with a newborn at home   Teaching the basics: holding and diapering a baby   Family tour of the OB unit   Refreshments provided   Children may bring dolls or stuffed animals to practice new skills To register\, visit GoshenHealth.com/Find-Events or call (877) 566-4660. For more information\, call (574) 364-2582.
X-ALT-DESC;FMTTYPE=text/html:WELCOME A NEW BROTHER OR SISTER Join us in an educational class for expecting families and soon to be siblings in preparation for the welcoming of a newborn. &bull\; Geared towards children ages 2-10 years old &bull\; Children learn what to expect with a newborn at home &bull\; Teaching the basics: holding and diapering a baby &bull\; Family tour of the OB unit &bull\; Refreshments provided &bull\; Children may bring dolls or stuffed animals to practice new skills To register\, visit GoshenHealth.com/Find-Events or call (877) 566-4660. For more information\, call (574) 364-2582.
LOCATION:Goshen Hospital 200 High Park Ave. Goshen\, IN 46526 Birch/Walnut Room
UID:e.689.17863
SEQUENCE:3
DTSTAMP:20260424T071118Z
URL:https://business.goshen.org/events/details/sibling-class-17863
END:VEVENT

END:VCALENDAR
