BEGIN:VCALENDAR
VERSION:2.0
PRODID:-//ChamberMaster//Event Calendar 2.0//EN
METHOD:PUBLISH
X-PUBLISHED-TTL:P3D
REFRESH-INTERVAL:P3D
CALSCALE:GREGORIAN
BEGIN:VEVENT
DTSTART:20170304T180000Z
DTEND:20170304T200000Z
X-MICROSOFT-CDO-ALLDAYEVENT:FALSE
SUMMARY:Show of the Stars Talent Contest
DESCRIPTION:Showcase your talent Family Friendly - singers\, dancers\, rappers and comics and compete for prizes and a chance to perform at various mall events throughout the year. Registration forms are available at Customer Service. Further information can be obtained by calling the Bad Entertainment office at 574-350-8286. Sponsored by Bad Entertainment.
X-ALT-DESC;FMTTYPE=text/html:Showcase your talent Family Friendly - singers\, dancers\, rappers and comics and compete for prizes and a chance to perform at various mall events throughout the year. Registration forms are available at Customer Service. Further information can be obtained by calling the Bad Entertainment office at 574-350-8286. Sponsored by Bad Entertainment.
LOCATION:Concord Mall 3701 S. Main Street Elkhart\, IN 46517 574-875-6502
UID:e.689.16678
SEQUENCE:3
DTSTAMP:20260425T122811Z
URL:https://business.goshen.org/events/details/show-of-the-stars-talent-contest-16678
END:VEVENT

END:VCALENDAR
