BEGIN:VCALENDAR
VERSION:2.0
PRODID:-//ChamberMaster//Event Calendar 2.0//EN
METHOD:PUBLISH
X-PUBLISHED-TTL:P3D
REFRESH-INTERVAL:P3D
CALSCALE:GREGORIAN
BEGIN:VEVENT
DTSTART:20191130T140000Z
DTEND:20191130T220000Z
X-MICROSOFT-CDO-ALLDAYEVENT:FALSE
SUMMARY:Shop Goshen Business Saturday
DESCRIPTION:Small Business Saturday\n\nSaturday\, November 30\n\nFind unique holiday gifts while shopping\, eating\, and drinking in Downtown Goshen!\n\nStarting Saturday\, November 30 on Small Business Saturday\, begin collecting stamps on your map.\n\nContinue collecting all through the holiday shopping season. Turn your map in with 22+ stamps at any participating business by December 24 for a chance to win a basket filled with downtown goodies!\n\n\n\nGo to www.cityonthego.org for more information!\n\nPick up your map at any participating store. Prize drawing on January 3\, 2020.
X-ALT-DESC;FMTTYPE=text/html:<h1 background-color:="" color:="" open="" style="box-sizing: border-box\; font-size: 1.4em\; margin-bottom: 0px\; line-height: 1em\; font-family: " text-rendering:="">Small Business Saturday</h1>\n\n<h2 background-color:="" color:="" open="" style="box-sizing: border-box\; font-size: 1.2em\; line-height: 1.2em\; font-family: " text-rendering:="">Saturday\, November&nbsp\;30</h2>\n\n<p background-color:="" font-size:="" open="" style="box-sizing: border-box\; margin: 1em 0px\; hyphens: none\; color: rgb(86\, 86\, 86)\; font-family: ">Find unique holiday gifts&nbsp\;while&nbsp\;shopping\, eating\, and drinking in Downtown Goshen!</p>\n\n<p background-color:="" font-size:="" open="" style="box-sizing: border-box\; margin: 1em 0px\; hyphens: none\; color: rgb(86\, 86\, 86)\; font-family: ">Starting Saturday\, November 30 on Small Business Saturday\, begin collecting stamps on your map.</p>\n\n<p background-color:="" font-size:="" open="" style="box-sizing: border-box\; margin: 1em 0px\; hyphens: none\; color: rgb(86\, 86\, 86)\; font-family: ">Continue collecting all through the holiday shopping season. Turn your map in with 22+ stamps at any participating business by December 24 for a chance to win a basket filled with downtown goodies!<br />\n<br />\nGo to www.cityonthego.org for more information!</p>\n\n<p background-color:="" font-size:="" open="" style="box-sizing: border-box\; margin: 1em 0px\; hyphens: none\; color: rgb(86\, 86\, 86)\; font-family: ">Pick up your map at any participating store. Prize drawing on January 3\, 2020.</p>\n
LOCATION:The City of Goshen Indiana
UID:e.689.18547
SEQUENCE:3
DTSTAMP:20260423T034812Z
URL:https://business.goshen.org/events/details/shop-goshen-business-saturday-18547
END:VEVENT

END:VCALENDAR
