BEGIN:VCALENDAR
VERSION:2.0
PRODID:-//ChamberMaster//Event Calendar 2.0//EN
METHOD:PUBLISH
X-PUBLISHED-TTL:P3D
REFRESH-INTERVAL:P3D
CALSCALE:GREGORIAN
BEGIN:VEVENT
DTSTART:20160528T160000Z
DTEND:20160528T230000Z
X-MICROSOFT-CDO-ALLDAYEVENT:FALSE
SUMMARY:Shanklin Pool opens for the season!
DESCRIPTION:Whether your summer fun includes water slides\, diving boards\, lap swims\, open swims\, swim lessons\, pool parties or just sunbathing\, Shanklin Pool is your summer hot spot! Our concession stand is open during public swim hours with a full menu. The pool opens May 28\, and the last day of operation will be July 30\, or when the Goshen Community School Corporation resumes the 2016?2017 school year. Opening and closing dates are weather-dependent. All patrons visiting Shanklin Pool are required to purchase a pool photo ID for $2/resident or $3/non-resident. The ID is valid for three years. With the photo ID\, patrons will pay daily or twilight admission fees. Season pass purchase includes photo ID. For more information about Shanklin Pool\, please see page 6 of the Parks Guide: https://indd.adobe.com/view/c9a988a8-4137-434d-a8cd-4c6f9b584e7a
X-ALT-DESC;FMTTYPE=text/html:Whether your summer fun includes water slides\, diving boards\, lap swims\, open swims\, swim lessons\, pool parties or just sunbathing\, Shanklin Pool is your summer hot spot! Our concession stand is open during public swim hours with a full menu. The pool opens May 28\, and the last day of operation will be July 30\, or when the Goshen Community School Corporation resumes the 2016?2017 school year. Opening and closing dates are weather-dependent. All patrons visiting Shanklin Pool are required to purchase a pool photo ID for $2/resident or $3/non-resident. The ID is valid for three years. With the photo ID\, patrons will pay daily or twilight admission fees. Season pass purchase includes photo ID. For more information about Shanklin Pool\, please see page 6 of the Parks Guide: https://indd.adobe.com/view/c9a988a8-4137-434d-a8cd-4c6f9b584e7a
LOCATION:
UID:e.689.15848
SEQUENCE:3
DTSTAMP:20260426T035829Z
URL:https://business.goshen.org/events/details/shanklin-pool-opens-for-the-season-05-28-2016-15848
END:VEVENT

END:VCALENDAR
