BEGIN:VCALENDAR
VERSION:2.0
PRODID:-//ChamberMaster//Event Calendar 2.0//EN
METHOD:PUBLISH
X-PUBLISHED-TTL:P3D
REFRESH-INTERVAL:P3D
CALSCALE:GREGORIAN
BEGIN:VEVENT
DTSTART:20160722T160000Z
DTEND:20160723T000000Z
X-MICROSOFT-CDO-ALLDAYEVENT:FALSE
SUMMARY:Shanklin Pool- Fair Week Specials
DESCRIPTION:From July 22 to July 30 when you visit Shanklin Pool you receive 1/2 off your pool admission. Also\, season pass holders receive a free slushie! All patrons visiting Shanklin Pool are required to purchase a pool photo ID for $2/resident or $3/non-resident. The ID is valid for three years. For more information about Shanklin Pool and its special events days\, please see page 6 of the Parks Guide: https://indd.adobe.com/view/c9a988a8-4137-434d-a8cd-4c6f9b584e7a
X-ALT-DESC;FMTTYPE=text/html:From July 22 to July 30 when you visit Shanklin Pool you receive 1/2 off your pool admission. Also\, season pass holders receive a free slushie! All patrons visiting Shanklin Pool are required to purchase a pool photo ID for $2/resident or $3/non-resident. The ID is valid for three years. For more information about Shanklin Pool and its special events days\, please see page 6 of the Parks Guide: https://indd.adobe.com/view/c9a988a8-4137-434d-a8cd-4c6f9b584e7a
LOCATION:Shanklin Pool
UID:e.689.15853
SEQUENCE:3
DTSTAMP:20260426T004948Z
URL:https://business.goshen.org/events/details/shanklin-pool-fair-week-specials-07-22-2016-15853
END:VEVENT

END:VCALENDAR
