BEGIN:VCALENDAR
VERSION:2.0
PRODID:-//ChamberMaster//Event Calendar 2.0//EN
METHOD:PUBLISH
X-PUBLISHED-TTL:P3D
REFRESH-INTERVAL:P3D
CALSCALE:GREGORIAN
BEGIN:VEVENT
DTSTART:20160619T160000Z
DTEND:20160619T230000Z
X-MICROSOFT-CDO-ALLDAYEVENT:FALSE
SUMMARY:Shanklin Pool- Daddy's Day Dip
DESCRIPTION:Sunday\, June 19: Kids\, bring your dad to Shanklin for his Father?s Day gift. Picnic in the park or ?dine? at Shanklin?s concession stand. Fathers accompanied by children 3 years and older will be admitted free. Regular rates apply for children. All patrons visiting Shanklin Pool are required to purchase a pool photo ID for $2/resident or $3/non-resident. The ID is valid for three years. For more information about Shanklin Pool and its special events days\, please see page 6 of the Parks Guide: https://indd.adobe.com/view/c9a988a8-4137-434d-a8cd-4c6f9b584e7a
X-ALT-DESC;FMTTYPE=text/html:Sunday\, June 19: Kids\, bring your dad to Shanklin for his Father?s Day gift. Picnic in the park or ?dine? at Shanklin?s concession stand. Fathers accompanied by children 3 years and older will be admitted free. Regular rates apply for children. All patrons visiting Shanklin Pool are required to purchase a pool photo ID for $2/resident or $3/non-resident. The ID is valid for three years. For more information about Shanklin Pool and its special events days\, please see page 6 of the Parks Guide: https://indd.adobe.com/view/c9a988a8-4137-434d-a8cd-4c6f9b584e7a
LOCATION:Shanklin Pool
UID:e.689.15851
SEQUENCE:3
DTSTAMP:20260426T022515Z
URL:https://business.goshen.org/events/details/shanklin-pool-daddy-s-day-dip-06-19-2016-15851
END:VEVENT

END:VCALENDAR
