BEGIN:VCALENDAR
VERSION:2.0
PRODID:-//ChamberMaster//Event Calendar 2.0//EN
METHOD:PUBLISH
X-PUBLISHED-TTL:P3D
REFRESH-INTERVAL:P3D
CALSCALE:GREGORIAN
BEGIN:VEVENT
DTSTART:20160602T160000Z
DTEND:20160603T000000Z
X-MICROSOFT-CDO-ALLDAYEVENT:FALSE
SUMMARY:Shanklin Pool- College Student Thrifty Thursdays
DESCRIPTION:You won?t need a loan for this! Enjoy some fun in the sun. Each Thursday\, college students with a college photo ID will be admitted all day to Shanklin Pool at the twilight rate of $2. All patrons visiting Shanklin Pool are required to purchase a pool photo ID for $2/resident or $3/non-resident. The ID is valid for three years. For more information about Shanklin Pool and its special events days\, please see page 6 of the Parks Guide: https://indd.adobe.com/view/c9a988a8-4137-434d-a8cd-4c6f9b584e7a
X-ALT-DESC;FMTTYPE=text/html:You won?t need a loan for this! Enjoy some fun in the sun. Each Thursday\, college students with a college photo ID will be admitted all day to Shanklin Pool at the twilight rate of $2. All patrons visiting Shanklin Pool are required to purchase a pool photo ID for $2/resident or $3/non-resident. The ID is valid for three years. For more information about Shanklin Pool and its special events days\, please see page 6 of the Parks Guide: https://indd.adobe.com/view/c9a988a8-4137-434d-a8cd-4c6f9b584e7a
LOCATION:Shanklin Pool
UID:e.689.15852
SEQUENCE:3
DTSTAMP:20260426T022823Z
URL:https://business.goshen.org/events/details/shanklin-pool-college-student-thrifty-thursdays-06-02-2016-15852
END:VEVENT

END:VCALENDAR
