BEGIN:VCALENDAR
VERSION:2.0
PRODID:-//ChamberMaster//Event Calendar 2.0//EN
METHOD:PUBLISH
X-PUBLISHED-TTL:P3D
REFRESH-INTERVAL:P3D
CALSCALE:GREGORIAN
BEGIN:VEVENT
DTSTART;VALUE=DATE:20170901
DTEND;VALUE=DATE:20170902
TRANSP:TRANSPARENT
X-MICROSOFT-CDO-ALLDAYEVENT:TRUE
SUMMARY:September First Fridays Volksfest
DESCRIPTION:Goshen's VolksFest is an evening full of the things we love most: People ("Volks" is German for people)\, local food and beer\, shopping\, live music\, family activities\, and groovy historic vehicles. In this case\, Volkswagens!
X-ALT-DESC;FMTTYPE=text/html:<span style="color:rgb(86\, 86\, 86)\; font-family:open sans\,sans-serif\; font-size:14.4px">Goshen&rsquo\;s VolksFest is an evening full of the things we love most: People (&ldquo\;Volks&rdquo\; is German for people)\, local food and beer\, shopping\, live music\, family activities\, and groovy historic vehicles. In this case\, Volkswagens!</span>
LOCATION:Downtown Goshen
UID:e.689.16840
SEQUENCE:3
DTSTAMP:20260425T023422Z
URL:https://business.goshen.org/events/details/september-first-fridays-volksfest-16840
END:VEVENT

END:VCALENDAR
