BEGIN:VCALENDAR
VERSION:2.0
PRODID:-//ChamberMaster//Event Calendar 2.0//EN
METHOD:PUBLISH
X-PUBLISHED-TTL:P3D
REFRESH-INTERVAL:P3D
CALSCALE:GREGORIAN
BEGIN:VEVENT
DTSTART:20171213T000000Z
DTEND:20171213T020000Z
X-MICROSOFT-CDO-ALLDAYEVENT:FALSE
SUMMARY:Sensitive Santa (for special needs children)
DESCRIPTION:December 12\, 2017 - 7p-9p Concord Mall Conference Center. FREE Tickets available at Customer Service starting November 1\, and must be picked up by December 11. Santa is making special time for special needs children.  Limited Seating - Ticket Required.
X-ALT-DESC;FMTTYPE=text/html:December 12\, 2017 - 7p-9p Concord Mall Conference Center. FREE Tickets available at Customer Service starting November 1\, and must be picked up by December 11. Santa is making special time for special needs children.&nbsp\; Limited Seating - Ticket Required.
LOCATION:Concord Mall ?3701 S. Main Street ?Elkhart\, IN 46517 574-875-6502
UID:e.689.17609
SEQUENCE:3
DTSTAMP:20260424T215023Z
URL:https://business.goshen.org/events/details/sensitive-santa-for-special-needs-children-17609
END:VEVENT

END:VCALENDAR
