BEGIN:VCALENDAR
VERSION:2.0
PRODID:-//ChamberMaster//Event Calendar 2.0//EN
METHOD:PUBLISH
X-PUBLISHED-TTL:P3D
REFRESH-INTERVAL:P3D
CALSCALE:GREGORIAN
BEGIN:VEVENT
DTSTART:20181029T140000Z
DTEND:20181029T153000Z
X-MICROSOFT-CDO-ALLDAYEVENT:FALSE
SUMMARY:Selected ‘Neglected’ New Testament Women
DESCRIPTION:This course will focus on selected women from the New Testament. Many of them we will recognize\, but we don't know much about. We will review each woman's story as it appears in scripture and dig deeper to learn more about who each neglected woman was\, what she teaches us and what new understandings we might glean. Our intention is to help resurrect\, unbind\, and breathe new life into these New Testament women. June Alliman Yoder is the Professor Emerita of Communication and Preaching. This course is four days: Oct. 29 & 31 and Nov. 5 & 7. Register at http://life-learn.org/ or call 574-535-7566.
X-ALT-DESC;FMTTYPE=text/html:This course will focus on selected women from the New Testament. Many of them we will recognize\, but we don&rsquo\;t know much about. We will review each woman&rsquo\;s story as it appears in scripture and dig deeper to learn more about who each neglected woman was\, what she teaches us and what new understandings we might glean. Our intention is to help resurrect\, unbind\, and breathe new life into these New Testament women. June Alliman Yoder is the Professor Emerita of Communication and Preaching. This course is four days: Oct. 29 &amp\; 31 and Nov. 5 &amp\; 7. Register at http://life-learn.org/ or call 574-535-7566.
LOCATION:Greencroft Goshen Community Center\, 1820 Greencroft Blvd.
UID:e.689.17905
SEQUENCE:3
DTSTAMP:20260424T045432Z
URL:https://business.goshen.org/events/details/selected-neglected-new-testament-women-17905
END:VEVENT

END:VCALENDAR
