BEGIN:VCALENDAR
VERSION:2.0
PRODID:-//ChamberMaster//Event Calendar 2.0//EN
METHOD:PUBLISH
X-PUBLISHED-TTL:P3D
REFRESH-INTERVAL:P3D
CALSCALE:GREGORIAN
BEGIN:VEVENT
DTSTART:20200122T183000Z
DTEND:20200122T193000Z
X-MICROSOFT-CDO-ALLDAYEVENT:FALSE
SUMMARY:Seeking the Welfare of the City
DESCRIPTION:Reflections on my 16 years of public service on the Goshen City Council: highlighting changes\, challenges and community assets. And what I learned about politics at the local level. Presenter: Julia Gautsche
X-ALT-DESC;FMTTYPE=text/html:Reflections on my 16 years of public service on the Goshen City Council: highlighting changes\, challenges and community assets. And what I learned about politics at the local level. Presenter: Julia Gautsche
LOCATION:Greencroft Goshen Community Center
UID:e.689.20611
SEQUENCE:3
DTSTAMP:20260423T015640Z
URL:https://business.goshen.org/events/details/seeking-the-welfare-of-the-city-20611
END:VEVENT

END:VCALENDAR
