BEGIN:VCALENDAR
VERSION:2.0
PRODID:-//ChamberMaster//Event Calendar 2.0//EN
METHOD:PUBLISH
X-PUBLISHED-TTL:P3D
REFRESH-INTERVAL:P3D
CALSCALE:GREGORIAN
BEGIN:VEVENT
DTSTART;VALUE=DATE:20171209
DTEND;VALUE=DATE:20171210
TRANSP:TRANSPARENT
X-MICROSOFT-CDO-ALLDAYEVENT:TRUE
SUMMARY:Second Chance Small Dog Pet Showcase
DESCRIPTION:Second Chance Small Dog Rescue Pet Showcase in the Carson's wing.
X-ALT-DESC;FMTTYPE=text/html:Second Chance Small Dog Rescue Pet Showcase in the Carson&#39\;s wing.
LOCATION:Concord Mall 3701 S. Main Street ?Elkhart\, IN 46517 574-875-6502
UID:e.689.17607
SEQUENCE:3
DTSTAMP:20260424T214943Z
URL:https://business.goshen.org/events/details/second-chance-small-dog-pet-showcase-17607
END:VEVENT

END:VCALENDAR
