BEGIN:VCALENDAR
VERSION:2.0
PRODID:-//ChamberMaster//Event Calendar 2.0//EN
METHOD:PUBLISH
X-PUBLISHED-TTL:P3D
REFRESH-INTERVAL:P3D
CALSCALE:GREGORIAN
BEGIN:VEVENT
DTSTART:20160716T120000Z
DTEND:20160716T190000Z
X-MICROSOFT-CDO-ALLDAYEVENT:FALSE
SUMMARY:Scuba Classes
DESCRIPTION:Learn the fundamentals of scuba diving\, including equipment selection\, how water pressure affects you when diving\, planning your dives and safety. Upon completing the two-day course? or when a level of proficiency is achieved?participants will schedule four open-water dives with the instructor. Divers ages 15 and older who complete the course and open-water dives will earn PADI (Professional Association of Diving Instructors) Open Water Diver certification. Individuals ages 10?14 are eligible to achieve Junior Open Water certification. Equipment will be provided except for mask\, snorkel\, fins and boots. These may be rented ($50)?or you may bring your own. Pre-registration is required at the Goshen Parks & Recreation Office. Class fee is $300\, which includes the two-day course\, four open-water dives and additional instruction to achieve certification\, if needed. Classes will meet at Shanklin Pool from 8 am to 3 pm. Please bring a swimsuit\, towel\, water bottle\, textbook and equipment to each class. Session I: June 4 and 5\; register by Friday\, May 27 Session II: July 16 and 17\; register by Friday\, July 8 ---------------------------------------------------- Clases de Buceo (Para cualquiera de 10 a os en adelante): Aprenda los fundamento del buceo\, incluyendo la selecci n del equipo\, como le afecta la presi n del agua al bucear\, planear sus buceos y seguridad. Hay una lectura obligatoria asignada antes de la primera clase\, que le tomar  aproximadamente doce horas. Despu s de terminar un curso de dos d as\, o cuando se logre un nivel de aptitud\, los participantes programar n cuatro sesiones de buceo al agua abierta con el instructor. Los buzos de 15 a os en adelante que terminen el curso y las salidas a agua abierta obtendr n una certificaci n PADI (Professional Association of Diving Instructors) para Buceo a Aguas Abiertas. Las personas de 10 a 14 a os pueden obtener una certificaci n Junior Open Water. Se proporcionar  el equipo\, excepto m scara\, tubo de buceo\, aletas y botas. Estas se pueden rentar o comprar\, o usted puede llevar las suyas. La tarifa para rentar estos objetos ser  de $50 en Hart City Scuba Center (vea la informaci n sobre Hart City a continuaci n). Se requiere una pre-inscripci n en la oficina de Goshen Parks & Recreation\, en 607 West Plymouth Avenue. Por favor tenga en cuenta las fechas l mites de inscripci n que est n a continuaci n. Despu s de la inscripci n en la oficina del parque\, usted debe presentar su recibo a Hart City Scuba Center\, localizado en 21807 State Road 120\, Elkhart\, para recoger su libro para el curso\, as  como informes sobre el alquiler y compra de equipo. La clase cuesta $300\, lo cual incluye el curso de dos d as\, cuatro buceos a agua abierta y de ser necesario instrucci n adicional para lograr la certificaci n. Las clases se reunir n en Schrock Pavilion en Shanklin Park de 8 am a 3 pm\, las sesiones pr cticas ser n en Shanklin Pool. Habr  un receso para comer de 11am a 12 del mediod a. Padres: Planeen reunirse con su hijo durante el receso para almorzar. Por favor traiga traje de ba o\, toalla\, botella de agua\, libro de texto y equipo a cada clase. Sesi n I: 4 y 5 de junio\; inscripci n antes del 27 de mayo Sesi n II: 16 y 17 de julio\; inscripci n antes del 8 de julio
X-ALT-DESC;FMTTYPE=text/html:Learn the fundamentals of scuba diving\, including equipment selection\, how water pressure affects you when diving\, planning your dives and safety. Upon completing the two-day course? or when a level of proficiency is achieved?participants will schedule four open-water dives with the instructor. Divers ages 15 and older who complete the course and open-water dives will earn PADI (Professional Association of Diving Instructors) Open Water Diver certification. Individuals ages 10?14 are eligible to achieve Junior Open Water certification. Equipment will be provided except for mask\, snorkel\, fins and boots. These may be rented ($50)?or you may bring your own. Pre-registration is required at the Goshen Parks &amp\; Recreation Office. Class fee is $300\, which includes the two-day course\, four open-water dives and additional instruction to achieve certification\, if needed. Classes will meet at Shanklin Pool from 8 am to 3 pm. Please bring a swimsuit\, towel\, water bottle\, textbook and equipment to each class. Session I: June 4 and 5\; register by Friday\, May 27 Session II: July 16 and 17\; register by Friday\, July 8 ---------------------------------------------------- Clases de Buceo (Para cualquiera de 10 a&ntilde\;os en adelante): Aprenda los fundamento del buceo\, incluyendo la selecci&oacute\;n del equipo\, como le afecta la presi&oacute\;n del agua al bucear\, planear sus buceos y seguridad. Hay una lectura obligatoria asignada antes de la primera clase\, que le tomar&aacute\; aproximadamente doce horas. Despu&eacute\;s de terminar un curso de dos d&iacute\;as\, o cuando se logre un nivel de aptitud\, los participantes programar&aacute\;n cuatro sesiones de buceo al agua abierta con el instructor. Los buzos de 15 a&ntilde\;os en adelante que terminen el curso y las salidas a agua abierta obtendr&aacute\;n una certificaci&oacute\;n PADI (Professional Association of Diving Instructors) para Buceo a Aguas Abiertas. Las personas de 10 a 14 a&ntilde\;os pueden obtener una certificaci&oacute\;n Junior Open Water. Se proporcionar&aacute\; el equipo\, excepto m&aacute\;scara\, tubo de buceo\, aletas y botas. Estas se pueden rentar o comprar\, o usted puede llevar las suyas. La tarifa para rentar estos objetos ser&aacute\; de $50 en Hart City Scuba Center (vea la informaci&oacute\;n sobre Hart City a continuaci&oacute\;n). Se requiere una pre-inscripci&oacute\;n en la oficina de Goshen Parks &amp\; Recreation\, en 607 West Plymouth Avenue. Por favor tenga en cuenta las fechas l&iacute\;mites de inscripci&oacute\;n que est&aacute\;n a continuaci&oacute\;n. Despu&eacute\;s de la inscripci&oacute\;n en la oficina del parque\, usted debe presentar su recibo a Hart City Scuba Center\, localizado en 21807 State Road 120\, Elkhart\, para recoger su libro para el curso\, as&iacute\; como informes sobre el alquiler y compra de equipo. La clase cuesta $300\, lo cual incluye el curso de dos d&iacute\;as\, cuatro buceos a agua abierta y de ser necesario instrucci&oacute\;n adicional para lograr la certificaci&oacute\;n. Las clases se reunir&aacute\;n en Schrock Pavilion en Shanklin Park de 8 am a 3 pm\, las sesiones pr&aacute\;cticas ser&aacute\;n en Shanklin Pool. Habr&aacute\; un receso para comer de 11am a 12 del mediod&iacute\;a. Padres: Planeen reunirse con su hijo durante el receso para almorzar. Por favor traiga traje de ba&ntilde\;o\, toalla\, botella de agua\, libro de texto y equipo a cada clase. Sesi&oacute\;n I: 4 y 5 de junio\; inscripci&oacute\;n antes del 27 de mayo Sesi&oacute\;n II: 16 y 17 de julio\; inscripci&oacute\;n antes del 8 de julio
LOCATION:Shanklin Pool
UID:e.689.15921
SEQUENCE:3
DTSTAMP:20260426T004314Z
URL:https://business.goshen.org/events/details/scuba-classes-07-16-2016-15921
END:VEVENT

END:VCALENDAR
